Workbook
Name CARGOS: tabCargos[#All]
Name CARGOS: tabCargos[#All]
Name CARGOS: tabCargos[#All]
Name CARGOS: tabCargos[#All]
Name CARGOS: tabCargos[#All]
Name COMARCAS: tabComarca[#All]
Name COMARCAS: tabComarca[#All]
Name COMARCAS: tabComarca[#All]
Name COMARCAS: tabComarca[#All]
Name COMARCAS: tabComarca[#All]
Name FromArray_1: _xlfn.ANCHORARRAY('CUSTO GLOBAL1'!$C$2)
Name FromArray_1: _xlfn.ANCHORARRAY('CUSTO GLOBAL1'!$C$2)
Name FromArray_2: _xlfn.ANCHORARRAY('CUSTO GLOBAL1'!$A$1)
Name FromArray_2: _xlfn.ANCHORARRAY('CUSTO GLOBAL1'!$A$1)
Name Index_Sheet_Kutools: #REF!
Name SegmentaçãodeDados_Cargo: #N/A

Sheet ORIENTAÇÕES PARA O LICITANTE
A1: ORIENTAÇÕES PARA OS LICITANTES
A3: OBTENÇÃO DO PREÇO DA PROPOSTA | B3: O PREÇO MÁXIMO GLOBAL PERMITIDO PARA A PROPOSTA SERÁ DE R$ 14.682.971,94 - MENSAL E R$ 176.195.663,28 - ANUAL, SENDO QUE DESSE PREÇO, R$ 2.083.443,20 (MENSAL) E R$ 25.001.318,35 (ANUAL) CORRESPONDE AO PREÇO DA CATEGORIA LIMPEZA E CONSERVAÇÃO E O RESTANTE R$ 12.599.528,74 (MENSAL) E R$ 151.194.344,93 CORRESPONDE A CATEGORIA APOIO ADMINISTRATIVO E MOTORISTAS. IMPORTANTE: VALORES IRRISÓRIOS PARA A PROPOSTA OU PARA QUALQUER UM DOS ITENS PASSÍVEIS DE REDUÇÃO DURANTE A LICITAÇÃO, BEM COMO PARA O LDI (CUSTO INDIRETO E LUCRO), PODERÃO TORNAR A PROPOSTA INEXEQUÍVEL. OCORRENDO TAL FATO, A CONTRATANTE SOLICITARÁ DILIGÊNCIAS PARA QUE O LICITANTE VENCEDOR COMPROVE A EXEQUIBILIDADE DA PROPOSTA . NÃO HAVENDO COMPROVAÇÃO DA EXIQUIBILIDADE O LICITANTE PODERÁ SER DESCLASSIFICADO. O PREÇO DA PROPOSTA PARA OS CARGOS DE APOIO E MOTORISTAS PODERÁ SER OBSERVADO NESTE APENSO NA ABA "CUSTO GLOBAL" CÉLULAS "BZ342" (VALOR MENSAL) E "CA342" (VALOR ANUAL). RESSALTA-SE QUE, PARA OBTER O PREÇO DA PROPOSTA, O LICITANTE NÃO PRECISA ALTERAR O VALOR INDICADO NAS CÉLULAS ACIMA, DEVENDO OBSERVAR E PRATICAR AS ORIENTAÇÕES A SEGUIR PARA ALTERAÇÃO SOMENTE DOS CAMPOS PASSÍVEIS DE REDUÇÃO DURANTE A LICITAÇÃO. À MEDIDA QUE AS ALTERAÇÕES FOREM SENDO REALIZADAS PELO LICITANTE NOS CAMPOS INFRAMENCIONADOS, O VALOR FINAL DA PROPOSTA SERÁ ATUALIZADO AUTOMATICAMENTE NA ABA "CUSTO GLOBAL" CÉLULAS "BZ342" (VALOR MENSAL) E "CA342" (VALOR ANUAL).
A5: REDUÇÃO DO RAT AJUSTADO - SUBMÓDULO 2.1 - ITEM G | B5: O PERCENTUAL MÁXIMO PERMITIDO PARA RAT AJUSTADO É DE 4% (2% DE RAT MULTIPLICADO POR 2 DE FAP). Este item poderá ser reduzido na licitação. Para tanto, o licitante deverá alterar o valor contido "AE8" da aba "BASE GERAL" deste Apenso. Ressalva-se que a modificação desse item na célula retromencionada promoverá a atualização em todas as demais abas, sem necessidade de qualquer outra alteração manual em outro campo deste Apenso. O percentual informado pela licitante vencedora para este item será praticado durante todo o período de vigência do contrato e o valor correspondente apurado na proposta será fixo para cada posto. A alteração do percentual do RAT ajustado, no decorrer do contrato, somente será processada mediante solicitação e comprovação da contratada.
A6: REDUÇÃO DO SEGURO DE VIDA - SUBMÓDULO 2.3 - ITEM G | B6: PREÇO MÁXIMO PERMITIDO R$3,36. Este item poderá ser reduzido na licitação. Para tanto, o licitante deverá alterar o valor contido na célula "AA5" da aba "BASE GERAL" deste Apenso. Ressalva-se que a modificação desse item na célula retromencionada promoverá a atualização em todas as demais abas, sem necessidade de qualquer outra alteração manual em outro campo deste Apenso. O preço informado pela licitante vencedora para este item será praticado durante todo o período de vigência do contrato e o valor correspondente apurado na proposta será fixo para cada posto, podendo ser reajustado anualmente pelo IPCA.
A7: REDUÇÃO DO CUSTO UNITÁRIO DOS UNIFORMES E EPIS - MÓDULO 5 - ITEM A | B7: PREÇOS MÁXIMOS PERMITIDOS CONFORME APENSO VIII E VALORES UNITÁRIOS CONSTANTES NA ABA "UNIFORMES" DESTE APENSO. Este item poderá ser reduzido na licitação. Para tanto, o licitante deverá acessar a aba “UNIFORMES” deste Apenso e alterar as células da coluna D, sinalizadas em amarelo, informando os valores unitários que serão empregados ao longo da execução contratual. Assim, automaticamente os custos de uniforme por posto serão alterados e atualizados nas células da coluna K da aba “UNIFORMES” e em todas as demais abas da planilha, sem a necessidade de alteração manual em qualquer outro campo deste apenso. O preço informado pela licitante vencedora para este item será praticado durante todo o período de vigência do contrato e o valor correspondente apurado na proposta será fixo para cada posto, podendo ser reajustado anualmente pelo IPCA.
A8: REDUÇÃO DO CUSTO UNITÁRIO DOS MATERIAIS DE CONSUMO - MÓDULO 5 - ITEM B | B8: PREÇOS MÁXIMOS PERMITIDOS CONFORME APENSO IX E VALORES UNITÁRIOS CONSTANTES NAS ABAS "INSUMOS JARDINAGEM" e "INSUMOS LAV. VEÍCULO" DESTE APENSO. **Materiais de consumo utilizados nos serviços de apoio: nas abas "INSUMOS JARDINAGEM" e "INSUMOS LAV. VEÍCULO" os preços unitários constantes nas células da coluna J, sinalizadas em amarelo, poderão ser reduzidos. Para tanto, basta filtra na coluna tipo o item "Material" e alterar o valor dessas células. Os valores unitários por posto que dependem desse preço serão automaticamente alterados nas células da coluna P e aplicados em todas as demais planilhas para a formação do preço. Não é necessário alterar nenhum outro campo manualmente. O preço informado pela licitante vencedora para estes itens serão praticados durante todo o período de vigência do contrato e o valor correspondente apurado na proposta será fixo para cada posto, podendo ser reajustado anualmente pelo IPCA.
A9: REDUÇÃO DO CUSTO UNITÁRIO DAS MÁQUINAS E EQUIPAMENTOS (DEPRECIAÇÃO) - MÓDULO 5 - ITEM C | B9: *PREÇOS MÁXIMOS PERMITIDOS CONFORME APENSO XI E VALORES UNITÁRIOS CONSTANTES NAS ABAS "INSUMOS JARDINAGEM", "INSUMOS LAV. VEÍCULO" E "INSUMOS GARÇOM" DESTE APENSO. **Equipamentos utilizados nos serviços de apoio: nas abas "INSUMOS JARDINAGEM", "INSUMOS LAV. VEÍCULO" E "INSUMOS GARÇOM" os preços unitários constantes nas células da coluna J, sinalizadas em amarelo, poderão ser reduzidos. Para tanto, basta filtra na coluna tipo o item "Equipamento" e alterar o valor dessas células. Os valores unitários por posto que dependem desse preço serão automaticamente alterados nas células da coluna P e aplicados em todas as demais planilhas para a formação do preço. Não é necessário alterar nenhum outro campo manualmente. O preço informado pela licitante vencedora para estes itens serão praticados durante todo o período de vigência do contrato e o valor correspondente apurado na proposta será fixo para cada posto, podendo ser reajustado anualmente pelo IPCA.
A10: REDUÇÃO DO CUSTO UNITÁRIO DOS PRODUTOS DE apoio e motoristas E MATERIAIS DE HIGIENE PESSOAL - MÓDULO 5 - ITEM D | B10: *PREÇOS MÁXIMOS PERMITIDOS CONFORME APENSO X E VALORES UNITÁRIOS CONSTANTES NA ABA "INSUMOS LAV. VEÍCULO" DESTE APENSO. **Para os Produtos utilizados nos serviços de apoio: na aba "INSUMOS LAV. VEÍCULO" os preços unitários constantes nas células da coluna J, sinalizadas em amarelo, poderão ser reduzidos. Para tanto, basta filtra na coluna tipo o item "Produto" e alterar o valor dessas células. Os valores unitários por posto que dependem desse preço serão automaticamente alterados nas células da coluna P e aplicados em todas as demais planilhas para a formação do preço. Não é necessário alterar nenhum outro campo manualmente. O preço informado pela licitante vencedora para estes itens serão praticados durante todo o período de vigência do contrato e o valor correspondente apurado na proposta será fixo para cada posto, podendo ser reajustado anualmente pelo IPCA.
A12: COMPOSIÇÃO DO LDI - (DEVERÁ SER CALCULADO APÓS ATUALIZAÇÃO DOS ITENS DE RAT, SEGURO DE VIDA, UNIFORMES, MATERIAIS DE CONSUMO E EQUIPAMENTOS OS QUAIS PODERÃO SER REDUZIDOS NA LICITAÇÃO)
A13: CUSTO INDIRETO - MÓDULO 6 - ITEM A | B13: VALOR MÁXIMO PERMITIDO R$ 381,16 POR POSTO DA CATEGORIA DE Apoio e Motoristas. Para cálculo do Custo Indireto o licitante deverá: Na célula "AA3" da aba "BASE GERAL" deste Apenso, reduzir/alterar apenas o percentual de 5% (Limite Máximo) constante na fórmula obtida da seguinte forma: Divisão do total do Custo Direto (Soma dos módulos 1, 2, 3, 4 e 5 - célula "BO342" da aba "CUSTO GLOBAL") pelo total de vagas previstas (1304 vagas - célula "G342" da aba "CUSTO GLOBAL") e multiplicação pelo percentual de Custo Indireto a ser praticado pelo licitante vencedor (Máximo 5%). O valor unitário obtido será fixo por posto de Apoio e Motoristas durante todo o período de vigência contratual, podendo ser alterado anualmente pelo IPCA. Ressalva-se que o valor obtido na célula "AA3" da aba "BASE GERAL" para o Custo Indireto dos postos de apoio e motoristas será automaticamente atualizado em todas as demais abas, sem necessidade de qualquer outra alteração manual em outro campo deste Apenso.
A14: LUCRO - MÓDULO 6 - ITEM B | B14: VALOR MÁXIMO PERMITIDO R$ 320,18 POR POSTO DA CATEGORIA Apoio e Motoristas. Para cálculo do Lucro o licitante deverá: Na célula "AA4" da aba "BASE GERAL" deste Apenso, reduzir/alterar apenas o percentual de 4% (Limite Máximo) constante na fórmula obtida da seguinte forma:- Soma do total do Custo Direto (Soma dos módulos 1, 2, 3, 4 e 5 - célula "BO342" da aba "CUSTO GLOBAL") com o total do Custo Indireto (célula "BP342" da aba "CUSTO GLOBAL"), dividido pelo total de vagas previstas (1304 vagas - célula "G342" da aba "CUSTO GLOBAL") e multiplicação pelo percentual de Lucro a ser praticado pelo liciante vencedor (Máximo 4%). O valor unitário obtido será fixo por posto de Apoio e Motoristas durante todo o período de vigência contratual, podendo ser alterado anualmente pelo IPCA. Ressalva-se que o valor obtido na célula "AA4" da aba "BASE GERAL" para o Custo Indireto dos postos de apoio e motoristas será automaticamente atualizado em todas as demais abas, sem necessidade de qualquer outra alteração manual em outro campo deste Apenso.
A15: COFINS - MÓDULO 6 - ITEM C.1 | B15: O PERCENTUAL MÁXIMO PERMITIDO PARA O COFINS É DE 7,6%. Este item poderá ser reduzido na licitação. Para tanto, o licitante deverá alterar o valor contido na célula "AE10" da aba "BASE GERAL" deste Apenso. Ressalva-se que a modificação desse item na célula retromencionada promoverá a atualização em todas as demais abas, sem necessidade de qualquer outra alteração manual em outro campo deste Apenso. O percentual informado pela licitante vencedora para este item será praticado durante todo o período de vigência do contrato, podendo ser alterado, no decorrer do contrato, somente numa eventual mudança do regime tributário, mediante solicitação e comprovação da contratada.
A16: PIS - MÓDULO 6 - ITEM C.2 | B16: O PERCENTUAL MÁXIMO PERMITIDO PARA O PIS É DE 1,65%. Este item poderá ser reduzido na licitação. Para tanto, o licitante deverá alterar o valor contido na célula "AE11" da aba "BASE GERAL" deste Apenso. Ressalva-se que a modificação desse item na célula retromencionada promoverá a atualização em todas as demais abas, sem necessidade de qualquer outra alteração manual em outro campo deste Apenso. O percentual informado pela licitante vencedora para este item será praticado durante todo o período de vigência do contrato, podendo ser alterado, no decorrer do contrato, somente numa eventual mudança do regime tributário, mediante solicitação e comprovação da contratada.

Sheet BASE GERAL
A1: COMARCA | B1: Sigla | C1: Codigo Comarca | D1: ISS | E1: VT | G1: Cargo | H1: Sigla | I1: Codigo Cargo | K1: Lotacao | L1: Tipo | M1: Codigo Lote | O1: IDENTIFICAÇÃO DO POSTO | Q1: DESPESA DE VIAGEM | R1: VALOR UNIT. | S1: QUANT. POSTOS INICIAL | T1: VALOR TOTAL PREVISTO | V1: ÍNDICE DE REAJUSTE - IPCA / IBGE | Z1: OUTROS CUSTOS | AD1: Impostos Nacionais | AE1: Alíquota
A2: ABAETE | B2: AET | C2: 002 | D2: 0.025 | E2: 6.4 | G2: ALMOXARIFE - 220 H | I2: 01 | K2: PGJ | L2: APOIO | M2: 1 | O2: Lote | Q2: MOTORISTAS | R2: 662.42 | S2: 175 | T2: =tabDiarias[[#This Row],[VALOR UNIT.]]*tabDiarias[[#This Row],[QUANT. POSTOS INICIAL]] -> 115923.5 | V2: TA / APOSTILAMENTO | W2: DATA DA PUBLICAÇÃO | X2: PERCENTUAL | Z2: TIPO | AA2: VALOR INICIAL P/ FUNCIONÁRIO | AB2: VALOR CORRIGIDO | AD2: INSS | AE2: 0.2
A3: ABRE CAMPO | B3: ABN | C3: 003 | D3: 0.03 | E3: 6.4 | G3: ASSISTENTE DE COMPRAS - 220 H | I3: 02 | K3: FEPDC | L3: APOIO | M3: 3 | O3: Código | Q3: APOIO | R3: 202.08 | S3: 819 | T3: =tabDiarias[[#This Row],[VALOR UNIT.]]*tabDiarias[[#This Row],[QUANT. POSTOS INICIAL]] -> 165503.52 | X3: 0 | Z3: Custos Indiretos | AA3: =(SUMIF('CUSTO GLOBAL'!E:E,"Apoio",'CUSTO GLOBAL'!BO:BO)/SUMIF('CUSTO GLOBAL'!E:E,"Apoio",'CUSTO GLOBAL'!G:G)*5%) -> #NAME? | AB3: {=AA3*PRODUCT((1+(_xlfn._xlws.FILTER(tabIndices[PERCENTUAL],tabIndices[PERCENTUAL]>0,0))))} -> #NAME? | AD3: SESI OU SESC | AE3: 0.015
A4: ACUCENA | B4: ACN | C4: 005 | D4: 0.04 | E4: 6.4 | G4: ASSISTENTE DE QUALIDADE - 220 H | I4: 03 | O4: Cargo | X4: 0 | Z4: Lucro | AA4: =(SUMIF('CUSTO GLOBAL'!E:E,"Apoio",'CUSTO GLOBAL'!BO:BO)+SUMIF('CUSTO GLOBAL'!E:E,"Apoio",'CUSTO GLOBAL'!BP:BP))/SUMIF('CUSTO GLOBAL'!E:E,"Apoio",'CUSTO GLOBAL'!G:G)*4% -> #NAME? | AB4: {=AA4*PRODUCT((1+(_xlfn._xlws.FILTER(tabIndices[PERCENTUAL],tabIndices[PERCENTUAL]>0,0))))} -> #NAME? | AD4: SENAI OU SENAC | AE4: 0.01
A5: AGUAS FORMOSAS | B5: AGF | C5: 009 | E5: 6.4 | G5: ASSISTENTE EM TECNOLOGIA DA INFORMACAO I - 220 H | I5: 04 | O5: Nº. Posto | Q5: Salário Mínimo Vigente | R5: 1518 | X5: 0 | Z5: Seguro de vida | AA5: 3.36 | AB5: {=AA5*PRODUCT((1+(_xlfn._xlws.FILTER(tabIndices[PERCENTUAL],tabIndices[PERCENTUAL]>0,0))))} -> 3.36 | AD5: INCRA | AE5: 0.002
A6: AIMORES | B6: AOR | C6: 011 | D6: 0.05 | E6: 6.4 | G6: ASSISTENTE EM TECNOLOGIA DA INFORMACAO II - 220 H | I6: 05 | X6: 0 | AD6: Salário Educação | AE6: 0.025
A7: AIURUOCA | B7: AUD | C7: 012 | D7: 0.03 | E7: 6.4 | G7: AUXILIAR DE ARQUIVO I - 220 H | I7: 06 | X7: 0 | AD7: FGTS | AE7: 0.08
A8: ALEM PARAIBA | B8: API | C8: 015 | D8: 0.02 | E8: 6.4 | G8: AUXILIAR DE ARQUIVO II - 150 H | I8: 07 | AD8: RAT Ajustado | AE8: =2%*2 -> 0.04
A9: ALFENAS | B9: AFN | C9: 016 | D9: 0.02 | E9: 6.4 | G9: AUXILIAR DE BIBLIOTECA - 220 H | I9: 08 | AD9: SEBRAE | AE9: 0.006
A10: ALMENARA | B10: AMN | C10: 017 | D10: 0.03 | E10: 6.4 | G10: AUXILIAR DE CADASTRO E EXPEDICAO - 220 H | I10: 09 | AD10: COFINS | AE10: 0.076
A11: ALPINOPOLIS | B11: ALS | C11: 019 | D11: 0.02 | E11: 6.4 | G11: AUXILIAR DE MANUTENCAO PREDIAL - 220 H | I11: 10 | AD11: PIS | AE11: 0.0165
A12: ALTO RIO DOCE | B12: ADC | C12: 021 | E12: 6.4 | G12: BOMBEIRO HIDRAULICO - 220 H | I12: 11
A13: ALVINOPOLIS | B13: ALL | C13: 023 | D13: 0.03 | E13: 6.4 | G13: CARREGADOR - 220 H | I13: 12
A14: ANDRADAS | B14: ANA | C14: 026 | D14: 0.05 | E14: 6.4 | G14: CONTINUO - 220 H | I14: 13
A15: ANDRELANDIA | B15: ADL | C15: 028 | E15: 6.4 | G15: CONTROLADOR LOGISTICO - 220 H | I15: 14
A16: ARACUAI | B16: AUI | C16: 034 | E16: 6.4 | G16: COPEIRO - 220 H | I16: 15
A17: ARAGUARI | B17: ARI | C17: 035 | D17: 0.03 | E17: 6.4 | G17: DIGITADOR - 150 H | I17: 16
A18: ARAXA | B18: AXA | C18: 040 | D18: 0.02 | E18: 6.4 | G18: ELETRICISTA - 220 H | I18: 17
A19: ARCOS | B19: ACS | C19: 042 | D19: 0.02 | E19: 6.4 | G19: ENCARREGADO - 12 X 36 - DIURNO | I19: 18
A20: AREADO | B20: ADO | C20: 043 | D20: 0.04 | E20: 6.4 | G20: ENCARREGADO - 12 X 36 - NOTURNO | I20: 19
A21: ARINOS | B21: AYN | C21: 778 | D21: 0.03 | E21: 6.4 | G21: ENCARREGADO - 220 H | I21: 20
A22: BAEPENDI | B22: BAD | C22: 049 | D22: 0.03 | E22: 6.4 | G22: FOTOGRAFO - 150 H | I22: 21
A23: BAMBUI | B23: BBI | C23: 051 | E23: 6.4 | G23: GARCOM - 12 X 36 - DIURNO | I23: 22
A24: BARAO DE COCAIS | B24: BCS | C24: 054 | D24: 0.05 | E24: 6.4 | G24: GARCOM - 12 X 36 - NOTURNO | I24: 23
A25: BARBACENA | B25: BCA | C25: 056 | D25: 0.035 | E25: 6.4 | G25: GARCOM - 220 H | I25: 24
A26: BARROSO | B26: BSO | C26: 059 | E26: 6.4 | G26: INSTALADOR E MANTENEDOR DE SISTEMAS DE SEGURANCA - 220 H | I26: 25
A27: BELO HORIZONTE | B27: BHE | C27: 024 | D27: 0.05 | E27: =5.75+5.5 -> 11.25 | G27: JARDINEIRO - 100 H | I27: 26
A28: BELO VALE | B28: BLL | C28: 064 | D28: 0.05 | E28: 6.4 | G28: JARDINEIRO - 200 H | I28: 27
A29: BETIM | B29: BET | C29: 027 | D29: 0.038 | E29: 6.4 | G29: JARDINEIRO - 220 H | I29: 28
A30: BICAS | B30: BIS | C30: 069 | E30: 6.4 | G30: JARDINEIRO INTERMITENTE | I30: 29
A31: BOA ESPERANCA | B31: BOE | C31: 071 | D31: 0.03 | E31: 6.4 | G31: LAVADOR DE VEICULOS - 220 H | I31: 30
A32: BOCAIUVA | B32: BCV | C32: 073 | D32: 0.03 | E32: 6.4 | G32: MANOBRISTA - 220 H | I32: 31
A33: BOM DESPACHO | B33: BDP | C33: 074 | D33: 0.03 | E33: 6.4 | G33: MARCENEIRO - 220 H | I33: 32
A34: BOM SUCESSO | B34: BMS | C34: 080 | D34: 0.03 | E34: 6.4 | G34: MOTORISTA I - 12 X 36 - DIURNO | I34: 33
A35: BONFIM | B35: BFM | C35: 081 | D35: 0.02 | E35: 6.4 | G35: MOTORISTA I - 150 H | I35: 34
A36: BONFINOPOLIS DE MINAS | B36: BFS | C36: 082 | E36: 6.4 | G36: MOTORISTA I - 220 H | I36: 35
A37: BORDA DA MATA | B37: BOM | C37: 083 | E37: 6.4 | G37: MOTORISTA II - 220 H | I37: 36
A38: BOTELHOS | B38: BHS | C38: 084 | E38: 6.4 | G38: OPERADOR DE MAQUINA REPROGRAFICA - 220 H | I38: 37
A39: BRASILIA DE MINAS | B39: BMN | C39: 086 | D39: 0.03 | E39: 6.4 | G39: OPERADOR DE MIDIA AUDIOVISUAL - 150 H | I39: 38
A40: BRAZOPOLIS | B40: BPS | C40: 089 | E40: 6.4 | G40: PEDREIRO - 220 H | I40: 39
...

Sheet UNIFORMES
A2: Os preços unitários dos uniformes poderão ser reduzidos na licitação. Para tanto, basta filtrar o item e o tipo de uniforme e alterar o valor nas células da coluna D preenchidas em "amarelo".
O5: Tipo | P5: Valores
A6: Item | B6: Tipo | C6: DATA PUBLICAÇÃO | D6: Valor Inicial | E6: Valor Reajustado | F6: Qtde Anual de Peças | G6: Cargo | H6: Qtde. funcionários | I6: Total | J6: Qtde. Geral anual | K6: Valor unit. Mensal | O6: Oxford | P6: Oxford | Q6: Oxford | R6: Oxford modelo social | S6: Oxford modelo social | T6: Oxford modelo social | U6: Brim, com cós de ajuste por amarração de cordão | V6: Brim, com cós de ajuste por amarração de cordão | W6: Brim, com cós de ajuste por amarração de cordão | X6: Jeans escuro | Y6: Jeans escuro | Z6: Jeans escuro | AA6: Malha - PV | AB6: Malha - PV | AC6: Malha - PV | AD6: Polo em malha de algodão | AE6: Polo em malha de algodão | AF6: Polo em malha de algodão | AG6: Moletom aberto | AH6: Moletom aberto | AI6: Moletom aberto | AJ6: Oxford preto, com bolso frontal tipo faca | AK6: Oxford preto, com bolso frontal tipo faca | AL6: Oxford preto, com bolso frontal tipo faca | AM6: Brim preto - com dois bolsos, com inscrição impressa "FOTÓGRAFO" em serigrafia nas costas | AN6: Brim preto - com dois bolsos, com inscrição impressa "FOTÓGRAFO" em serigrafia nas costas | AO6: Brim preto - com dois bolsos, com inscrição impressa "FOTÓGRAFO" em serigrafia nas costas | AP6: Borboleta em tecido cetim preto | AQ6: Borboleta em tecido cetim preto | AR6: Borboleta em tecido cetim preto | AS6: Social em tecido poliéster preto | AT6: Social em tecido poliéster preto | AU6: Social em tecido poliéster preto | AV6: Manga curta - Brim - com dois bolsos, com inscrição impressa em serigrafia nas costas | AW6: Manga curta - Brim - com dois bolsos, com inscrição impressa em serigrafia nas costas | AX6: Manga curta - Brim - com dois bolsos, com inscrição impressa em serigrafia nas costas | AY6: Manga comprida - Oxford ou poliéster com dois bolsos frontais | AZ6: Manga comprida - Oxford ou poliéster com dois bolsos frontais | BA6: Manga comprida - Oxford ou poliéster com dois bolsos frontais | BB6: Sapato social (sem cadarço) de couro preto, sem salto. | BC6: Sapato social (sem cadarço) de couro preto, sem salto. | BD6: Sapato social (sem cadarço) de couro preto, sem salto. | BE6: Camisa social composta por no mínimo 50% algodão, de boa qualidade | BF6: Camisa social composta por no mínimo 50% algodão, de boa qualidade | BG6: Camisa social composta por no mínimo 50% algodão, de boa qualidade | BH6: Sapato social masculino (com cadarço) ou feminino (sem cadarço) de couro preto | BI6: Sapato social masculino (com cadarço) ou feminino (sem cadarço) de couro preto | BJ6: Sapato social masculino (com cadarço) ou feminino (sem cadarço) de couro preto | BK6: Quepe em tecido sintético, composto por poliéster e algodão; cor azul-marinho | BL6: Quepe em tecido sintético, composto por poliéster e algodão; cor azul-marinho | BM6: Quepe em tecido sintético, composto por poliéster e algodão; cor azul-marinho | BN6: Máscara Descartável Tripla | BO6: Máscara Descartável Tripla | BP6: Máscara Descartável Tripla | BQ6: Máscara N95 Sem Válvula (50%) | BR6: Máscara N95 Sem Válvula (50%) | BS6: Máscara N95 Sem Válvula (50%) | BT6: Máscara N95 Com Válvula (50%) | BU6: Máscara N95 Com Válvula (50%) | BV6: Máscara N95 Com Válvula (50%) | BW6: Luvas Descartáveis De Látex (Com Pó) Tamanhos P, M, G | BX6: Luvas Descartáveis De Látex (Com Pó) Tamanhos P, M, G | BY6: Luvas Descartáveis De Látex (Com Pó) Tamanhos P, M, G | BZ6: Luvas Descartáveis Nitrílica (Isenta De Pó) Tamanhos P, M, G | CA6: Luvas Descartáveis Nitrílica (Isenta De Pó) Tamanhos P, M, G | CB6: Luvas Descartáveis Nitrílica (Isenta De Pó) Tamanhos P, M, G | CC6: Calçado Ocupacional Tipo Botina | CD6: Calçado Ocupacional Tipo Botina | CE6: Calçado Ocupacional Tipo Botina | CF6: Óculos De Segurança De Sobreposição Incolor Ou Fumê | CG6: Óculos De Segurança De Sobreposição Incolor Ou Fumê | CH6: Óculos De Segurança De Sobreposição Incolor Ou Fumê | CI6: Touca Descartável | CJ6: Touca Descartável | CK6: Touca Descartável | CL6: Vestimenta Tipo Avental (Uso Sobre O Jaleco De Tecido) | CM6: Vestimenta Tipo Avental (Uso Sobre O Jaleco De Tecido) | CN6: Vestimenta Tipo Avental (Uso Sobre O Jaleco De Tecido) | CO6: Avental De Pvc | CP6: Avental De Pvc | CQ6: Avental De Pvc | CR6: Avental De Raspa | CS6: Avental De Raspa | CT6: Avental De Raspa | CU6: Bota De Borracha | CV6: Bota De Borracha | CW6: Bota De Borracha | CX6: Calça De Segurança Confeccionada Em Tecido Cedrotech | CY6: Calça De Segurança Confeccionada Em Tecido Cedrotech | CZ6: Calça De Segurança Confeccionada Em Tecido Cedrotech | DA6: Camisa De Segurança Confeccionada Em Uma Camada De Tecido Cedrotech | DB6: Camisa De Segurança Confeccionada Em Uma Camada De Tecido Cedrotech | DC6: Camisa De Segurança Confeccionada Em Uma Camada De Tecido Cedrotech | DD6: Capacete Aba Frontal Tipo Ii Classe B | DE6: Capacete Aba Frontal Tipo Ii Classe B | DF6: Capacete Aba Frontal Tipo Ii Classe B | DG6: Capuz Ou Balaclava | DH6: Capuz Ou Balaclava | DI6: Capuz Ou Balaclava | DJ6: Cinto De Segurança | DK6: Cinto De Segurança | DL6: Cinto De Segurança | DM6: Creme Protetor De Pele (Luva Quimica) | DN6: Creme Protetor De Pele (Luva Quimica) | DO6: Creme Protetor De Pele (Luva Quimica) | DP6: Luvas - Classe 00 Para 2,5 Kv | DQ6: Luvas - Classe 00 Para 2,5 Kv | DR6: Luvas - Classe 00 Para 2,5 Kv | DS6: Luvas - Cobertura Tipo Vaqueta | DT6: Luvas - Cobertura Tipo Vaqueta | DU6: Luvas - Cobertura Tipo Vaqueta | DV6: Luvas - Em Pvc (Plastissol) Com Forro De Algodão | DW6: Luvas - Em Pvc (Plastissol) Com Forro De Algodão | DX6: Luvas - Em Pvc (Plastissol) Com Forro De Algodão | DY6: Luvas - Látex Vulcanizada (Flex Cut Ou Suedine) | DZ6: Luvas - Látex Vulcanizada (Flex Cut Ou Suedine) | EA6: Luvas - Látex Vulcanizada (Flex Cut Ou Suedine) | EB6: Luvas De Borracha | EC6: Luvas De Borracha | ED6: Luvas De Borracha | EE6: Luvas De Raspa | EF6: Luvas De Raspa | EG6: Luvas De Raspa | EH6: Luvas Nitrílicas Cano Longo | EI6: Luvas Nitrílicas Cano Longo | EJ6: Luvas Nitrílicas Cano Longo | EK6: Macacão Com Capuz (Tamanho Gg) | EL6: Macacão Com Capuz (Tamanho Gg) | EM6: Macacão Com Capuz (Tamanho Gg) | EN6: Manguito Mangote | EO6: Manguito Mangote | EP6: Manguito Mangote | EQ6: Máscara De Solda Com Escurecimento Automático | ER6: Máscara De Solda Com Escurecimento Automático | ES6: Máscara De Solda Com Escurecimento Automático | ET6: Máscara Pff2 Sem Válvula | EU6: Máscara Pff2 Sem Válvula | EV6: Máscara Pff2 Sem Válvula | EW6: Máscaras Respiratórias Pff 2 Vo | EX6: Máscaras Respiratórias Pff 2 Vo | EY6: Máscaras Respiratórias Pff 2 Vo | EZ6: Perneira De Raspa | FA6: Perneira De Raspa | FB6: Perneira De Raspa | FC6: Protetor Auricular Plug Com Cordinha | FD6: Protetor Auricular Plug Com Cordinha | FE6: Protetor Auricular Plug Com Cordinha | FF6: Protetor Auricular Tipo Concha | FG6: Protetor Auricular Tipo Concha | FH6: Protetor Auricular Tipo Concha | FI6: Protetor Facial | FJ6: Protetor Facial | FK6: Protetor Facial | FL6: Respirador Com Filtro Contra Vapores Orgânicos (Com 4 Cartuchos Químicos Vo), Compatível Com O Respirador | FM6: Respirador Com Filtro Contra Vapores Orgânicos (Com 4 Cartuchos Químicos Vo), Compatível Com O Respirador | FN6: Respirador Com Filtro Contra Vapores Orgânicos (Com 4 Cartuchos Químicos Vo), Compatível Com O Respirador | FO6: Capa De Chuva De Pvc Forrado | FP6: Capa De Chuva De Pvc Forrado | FQ6: Capa De Chuva De Pvc Forrado | FR6: Cinto De Proteção Lombar | FS6: Cinto De Proteção Lombar | FT6: Cinto De Proteção Lombar | FU6: Tênis de Lona | FV6: Tênis de Lona | FW6: Tênis de Lona | FX6: Avental Em Vinil | FY6: Avental Em Vinil | FZ6: Avental Em Vinil | GA6: Máscara Descartável Em Tnt Com Elástico | GB6: Máscara Descartável Em Tnt Com Elástico | GC6: Máscara Descartável Em Tnt Com Elástico | GD6: Touca Branca Com Tela E Pala | GE6: Touca Branca Com Tela E Pala | GF6: Touca Branca Com Tela E Pala | GG6: Óculos De Segurança Incolor, Tipo Rj, Sem Material Condutor De Energia | GH6: Óculos De Segurança Incolor, Tipo Rj, Sem Material Condutor De Energia | GI6: Óculos De Segurança Incolor, Tipo Rj, Sem Material Condutor De Energia | GJ6: Luva De Malha Pigmentada | GK6: Luva De Malha Pigmentada | GL6: Luva De Malha Pigmentada | GM6: Perneira De Proteção Resistente A Picadas De Animais Peçonhentos / Couro | GN6: Perneira De Proteção Resistente A Picadas De Animais Peçonhentos / Couro | GO6: Perneira De Proteção Resistente A Picadas De Animais Peçonhentos / Couro | GP6: Protetor Respiratório Pff1 | GQ6: Protetor Respiratório Pff1 | GR6: Protetor Respiratório Pff1 | GS6: Protetor Solar | GT6: Protetor Solar | GU6: Protetor Solar | GV6: Touca Árabe | GW6: Touca Árabe | GX6: Touca Árabe | GY6: Calça Em Pvc | GZ6: Calça Em Pvc | HA6: Calça Em Pvc | HB6: Luva Nitrílica (Cano Médio) | HC6: Luva Nitrílica (Cano Médio) | HD6: Luva Nitrílica (Cano Médio) | HE6: Luvas Microfibra Para Limpeza Automotiva | HF6: Luvas Microfibra Para Limpeza Automotiva | HG6: Luvas Microfibra Para Limpeza Automotiva | HH6: Vestimenta Tipo Blusão | HI6: Vestimenta Tipo Blusão | HJ6: Vestimenta Tipo Blusão | HK6: Calçado Ocupacional Tipo Sapato | HL6: Calçado Ocupacional Tipo Sapato | HM6: Calçado Ocupacional Tipo Sapato | HN6: Calçado Ocupacional Tipo Tênis | HO6: Calçado Ocupacional Tipo Tênis | HP6: Calçado Ocupacional Tipo Tênis | HQ6: Total Qtde. peças p/ ano | HR6: Total Valor p/ ano | HS6: Total Valor unitário mensal
A7: Calçados M/F | B7: Calçado Ocupacional Tipo Botina | D7: 280.04 | E7: {=tabUniformes[[#This Row],[Valor Inicial]]*IFERROR(PRODUCT(1+_xlfn._xlws.FILTER(tabIndices[PERCENTUAL],tabIndices[DATA DA PUBLICAÇÃO]>tabUniformes[[#This Row],[DATA PUBLICAÇÃO]])),1)} -> 280.04 | F7: 2 | G7: ALMOXARIFE - 220 H | H7: 10 | I7: =tabUniformes[[#This Row],[Valor Reajustado]]*tabUniformes[[#This Row],[Qtde Anual de Peças]]*tabUniformes[[#This Row],[Qtde. funcionários]] -> 5600.8 | J7: =tabUniformes[[#This Row],[Qtde Anual de Peças]]*tabUniformes[[#This Row],[Qtde. funcionários]] -> 20 | K7: =IFERROR(tabUniformes[[#This Row],[Total]]/12/tabUniformes[[#This Row],[Qtde. funcionários]],0) -> 46.673333 | M7: Cargo | N7: Qtde. funcionários | O7: Qtde. peças p/ ano | P7: Valor p/ ano | Q7: Valor unitário mensal | R7: Qtde. peças p/ ano | S7: Valor p/ ano | T7: Valor unitário mensal | U7: Qtde. peças p/ ano | V7: Valor p/ ano | W7: Valor unitário mensal | X7: Qtde. peças p/ ano | Y7: Valor p/ ano | Z7: Valor unitário mensal | AA7: Qtde. peças p/ ano | AB7: Valor p/ ano | AC7: Valor unitário mensal | AD7: Qtde. peças p/ ano | AE7: Valor p/ ano | AF7: Valor unitário mensal | AG7: Qtde. peças p/ ano | AH7: Valor p/ ano | AI7: Valor unitário mensal | AJ7: Qtde. peças p/ ano | AK7: Valor p/ ano | AL7: Valor unitário mensal | AM7: Qtde. peças p/ ano | AN7: Valor p/ ano | AO7: Valor unitário mensal | AP7: Qtde. peças p/ ano | AQ7: Valor p/ ano | AR7: Valor unitário mensal | AS7: Qtde. peças p/ ano | AT7: Valor p/ ano | AU7: Valor unitário mensal | AV7: Qtde. peças p/ ano | AW7: Valor p/ ano | AX7: Valor unitário mensal | AY7: Qtde. peças p/ ano | AZ7: Valor p/ ano | BA7: Valor unitário mensal | BB7: Qtde. peças p/ ano | BC7: Valor p/ ano | BD7: Valor unitário mensal | BE7: Qtde. peças p/ ano | BF7: Valor p/ ano | BG7: Valor unitário mensal | BH7: Qtde. peças p/ ano | BI7: Valor p/ ano | BJ7: Valor unitário mensal | BK7: Qtde. peças p/ ano | BL7: Valor p/ ano | BM7: Valor unitário mensal | BN7: Qtde. peças p/ ano | BO7: Valor p/ ano | BP7: Valor unitário mensal | BQ7: Qtde. peças p/ ano | BR7: Valor p/ ano | BS7: Valor unitário mensal | BT7: Qtde. peças p/ ano | BU7: Valor p/ ano | BV7: Valor unitário mensal | BW7: Qtde. peças p/ ano | BX7: Valor p/ ano | BY7: Valor unitário mensal | BZ7: Qtde. peças p/ ano | CA7: Valor p/ ano | CB7: Valor unitário mensal | CC7: Qtde. peças p/ ano | CD7: Valor p/ ano | CE7: Valor unitário mensal | CF7: Qtde. peças p/ ano | CG7: Valor p/ ano | CH7: Valor unitário mensal | CI7: Qtde. peças p/ ano | CJ7: Valor p/ ano | CK7: Valor unitário mensal | CL7: Qtde. peças p/ ano | CM7: Valor p/ ano | CN7: Valor unitário mensal | CO7: Qtde. peças p/ ano | CP7: Valor p/ ano | CQ7: Valor unitário mensal | CR7: Qtde. peças p/ ano | CS7: Valor p/ ano | CT7: Valor unitário mensal | CU7: Qtde. peças p/ ano | CV7: Valor p/ ano | CW7: Valor unitário mensal | CX7: Qtde. peças p/ ano | CY7: Valor p/ ano | CZ7: Valor unitário mensal | DA7: Qtde. peças p/ ano | DB7: Valor p/ ano | DC7: Valor unitário mensal | DD7: Qtde. peças p/ ano | DE7: Valor p/ ano | DF7: Valor unitário mensal | DG7: Qtde. peças p/ ano | DH7: Valor p/ ano | DI7: Valor unitário mensal | DJ7: Qtde. peças p/ ano | DK7: Valor p/ ano | DL7: Valor unitário mensal | DM7: Qtde. peças p/ ano | DN7: Valor p/ ano | DO7: Valor unitário mensal | DP7: Qtde. peças p/ ano | DQ7: Valor p/ ano | DR7: Valor unitário mensal | DS7: Qtde. peças p/ ano | DT7: Valor p/ ano | DU7: Valor unitário mensal | DV7: Qtde. peças p/ ano | DW7: Valor p/ ano | DX7: Valor unitário mensal | DY7: Qtde. peças p/ ano | DZ7: Valor p/ ano | EA7: Valor unitário mensal | EB7: Qtde. peças p/ ano | EC7: Valor p/ ano | ED7: Valor unitário mensal | EE7: Qtde. peças p/ ano | EF7: Valor p/ ano | EG7: Valor unitário mensal | EH7: Qtde. peças p/ ano | EI7: Valor p/ ano | EJ7: Valor unitário mensal | EK7: Qtde. peças p/ ano | EL7: Valor p/ ano | EM7: Valor unitário mensal | EN7: Qtde. peças p/ ano | EO7: Valor p/ ano | EP7: Valor unitário mensal | EQ7: Qtde. peças p/ ano | ER7: Valor p/ ano | ES7: Valor unitário mensal | ET7: Qtde. peças p/ ano | EU7: Valor p/ ano | EV7: Valor unitário mensal | EW7: Qtde. peças p/ ano | EX7: Valor p/ ano | EY7: Valor unitário mensal | EZ7: Qtde. peças p/ ano | FA7: Valor p/ ano | FB7: Valor unitário mensal | FC7: Qtde. peças p/ ano | FD7: Valor p/ ano | FE7: Valor unitário mensal | FF7: Qtde. peças p/ ano | FG7: Valor p/ ano | FH7: Valor unitário mensal | FI7: Qtde. peças p/ ano | FJ7: Valor p/ ano | FK7: Valor unitário mensal | FL7: Qtde. peças p/ ano | FM7: Valor p/ ano | FN7: Valor unitário mensal | FO7: Qtde. peças p/ ano | FP7: Valor p/ ano | FQ7: Valor unitário mensal | FR7: Qtde. peças p/ ano | FS7: Valor p/ ano | FT7: Valor unitário mensal | FU7: Qtde. peças p/ ano | FV7: Valor p/ ano | FW7: Valor unitário mensal | FX7: Qtde. peças p/ ano | FY7: Valor p/ ano | FZ7: Valor unitário mensal | GA7: Qtde. peças p/ ano | GB7: Valor p/ ano | GC7: Valor unitário mensal | GD7: Qtde. peças p/ ano | GE7: Valor p/ ano | GF7: Valor unitário mensal | GG7: Qtde. peças p/ ano | GH7: Valor p/ ano | GI7: Valor unitário mensal | GJ7: Qtde. peças p/ ano | GK7: Valor p/ ano | GL7: Valor unitário mensal | GM7: Qtde. peças p/ ano | GN7: Valor p/ ano | GO7: Valor unitário mensal | GP7: Qtde. peças p/ ano | GQ7: Valor p/ ano | GR7: Valor unitário mensal | GS7: Qtde. peças p/ ano | GT7: Valor p/ ano | GU7: Valor unitário mensal | GV7: Qtde. peças p/ ano | GW7: Valor p/ ano | GX7: Valor unitário mensal | GY7: Qtde. peças p/ ano | GZ7: Valor p/ ano | HA7: Valor unitário mensal | HB7: Qtde. peças p/ ano | HC7: Valor p/ ano | HD7: Valor unitário mensal | HE7: Qtde. peças p/ ano | HF7: Valor p/ ano | HG7: Valor unitário mensal | HH7: Qtde. peças p/ ano | HI7: Valor p/ ano | HJ7: Valor unitário mensal | HK7: Qtde. peças p/ ano | HL7: Valor p/ ano | HM7: Valor unitário mensal | HN7: Qtde. peças p/ ano | HO7: Valor p/ ano | HP7: Valor unitário mensal
A8: Calça Comprida | B8: Jeans escuro | D8: 94.82 | E8: {=tabUniformes[[#This Row],[Valor Inicial]]*IFERROR(PRODUCT(1+_xlfn._xlws.FILTER(tabIndices[PERCENTUAL],tabIndices[DATA DA PUBLICAÇÃO]>tabUniformes[[#This Row],[DATA PUBLICAÇÃO]])),1)} -> 94.82 | F8: 4 | G8: ALMOXARIFE - 220 H | H8: 10 | I8: =tabUniformes[[#This Row],[Valor Reajustado]]*tabUniformes[[#This Row],[Qtde Anual de Peças]]*tabUniformes[[#This Row],[Qtde. funcionários]] -> 3792.8 | J8: =tabUniformes[[#This Row],[Qtde Anual de Peças]]*tabUniformes[[#This Row],[Qtde. funcionários]] -> 40 | K8: =IFERROR(tabUniformes[[#This Row],[Total]]/12/tabUniformes[[#This Row],[Qtde. funcionários]],0) -> 31.606667 | M8: ALMOXARIFE - 220 H | N8: 10 | X8: 40 | Y8: 3792.8 | Z8: 31.606667 | AD8: 60 | AE8: 4189.8 | AF8: 34.915 | AG8: 10 | AH8: 951.3 | AI8: 7.9275 | CC8: 20 | CD8: 5600.8 | CE8: 46.673333 | HQ8: 130 | HR8: 14534.7 | HS8: 121.1225
A9: Agasalho | B9: Moletom aberto | D9: 95.13 | E9: {=tabUniformes[[#This Row],[Valor Inicial]]*IFERROR(PRODUCT(1+_xlfn._xlws.FILTER(tabIndices[PERCENTUAL],tabIndices[DATA DA PUBLICAÇÃO]>tabUniformes[[#This Row],[DATA PUBLICAÇÃO]])),1)} -> 95.13 | F9: 1 | G9: ALMOXARIFE - 220 H | H9: 10 | I9: =tabUniformes[[#This Row],[Valor Reajustado]]*tabUniformes[[#This Row],[Qtde Anual de Peças]]*tabUniformes[[#This Row],[Qtde. funcionários]] -> 951.3 | J9: =tabUniformes[[#This Row],[Qtde Anual de Peças]]*tabUniformes[[#This Row],[Qtde. funcionários]] -> 10 | K9: =IFERROR(tabUniformes[[#This Row],[Total]]/12/tabUniformes[[#This Row],[Qtde. funcionários]],0) -> 7.9275 | M9: ASSISTENTE DE COMPRAS - 220 H | N9: 21 | X9: 84 | Y9: 7964.88 | Z9: 31.606667 | AD9: 126 | AE9: 8798.58 | AF9: 34.915 | AG9: 21 | AH9: 1997.73 | AI9: 7.9275 | HQ9: 231 | HR9: 18761.19 | HS9: 74.449167
A10: Camisa manga curta | B10: Polo em malha de algodão | D10: 69.83 | E10: {=tabUniformes[[#This Row],[Valor Inicial]]*IFERROR(PRODUCT(1+_xlfn._xlws.FILTER(tabIndices[PERCENTUAL],tabIndices[DATA DA PUBLICAÇÃO]>tabUniformes[[#This Row],[DATA PUBLICAÇÃO]])),1)} -> 69.83 | F10: 6 | G10: ALMOXARIFE - 220 H | H10: 10 | I10: =tabUniformes[[#This Row],[Valor Reajustado]]*tabUniformes[[#This Row],[Qtde Anual de Peças]]*tabUniformes[[#This Row],[Qtde. funcionários]] -> 4189.8 | J10: =tabUniformes[[#This Row],[Qtde Anual de Peças]]*tabUniformes[[#This Row],[Qtde. funcionários]] -> 60 | K10: =IFERROR(tabUniformes[[#This Row],[Total]]/12/tabUniformes[[#This Row],[Qtde. funcionários]],0) -> 34.915 | M10: ASSISTENTE DE QUALIDADE - 220 H | N10: 117 | X10: 408 | Y10: 22087.754 | Z10: 46.016155 | AD10: 612 | AE10: 25769.047 | AF10: 53.685514 | AG10: 117 | AH10: 11130.21 | AI10: 23.187937 | HQ10: 1137 | HR10: 58987.011 | HS10: 122.88961
A11: Calça Comprida | B11: Jeans escuro | D11: 94.82 | E11: {=tabUniformes[[#This Row],[Valor Inicial]]*IFERROR(PRODUCT(1+_xlfn._xlws.FILTER(tabIndices[PERCENTUAL],tabIndices[DATA DA PUBLICAÇÃO]>tabUniformes[[#This Row],[DATA PUBLICAÇÃO]])),1)} -> 94.82 | F11: 4 | G11: ASSISTENTE DE COMPRAS - 220 H | H11: 21 | I11: =tabUniformes[[#This Row],[Valor Reajustado]]*tabUniformes[[#This Row],[Qtde Anual de Peças]]*tabUniformes[[#This Row],[Qtde. funcionários]] -> 7964.88 | J11: =tabUniformes[[#This Row],[Qtde Anual de Peças]]*tabUniformes[[#This Row],[Qtde. funcionários]] -> 84 | K11: =IFERROR(tabUniformes[[#This Row],[Total]]/12/tabUniformes[[#This Row],[Qtde. funcionários]],0) -> 31.606667 | M11: AUXILIAR DE ARQUIVO I - 220 H | N11: 27 | X11: 108 | Y11: 5846.7585 | Z11: 18.045551 | AD11: 162 | AE11: 6821.2182 | AF11: 21.053143 | AG11: 27 | AH11: 1624.0996 | AI11: 5.012653 | AY11: 27 | AZ11: 974.45974 | BA11: 3.0075918 | BN11: 9720 | BO11: 2235.6 | BP11: 6.9 | BQ11: 648 | BR11: 1438.56 | BS11: 4.44 | BT11: 648 | BU11: 900.72 | BV11: 2.78 | BW11: 18900 | BX11: 5167.26 | BY11: 15.948333 | BZ11: 3240 | CA11: 972 | CB11: 3 | CC11: 54 | CD11: 15122.16 | CE11: 46.673333 | CF11: 324 | CG11: 2485.08 | CH11: 7.67 | CI11: 702 | CJ11: 17514.9 | CK11: 54.058333 | CL11: 702 | CM11: 638.82 | CN11: 1.9716667 | HQ11: 35262 | HR11: 61741.636 | HS11: 190.5606
A12: Agasalho | B12: Moletom aberto | D12: 95.13 | E12: {=tabUniformes[[#This Row],[Valor Inicial]]*IFERROR(PRODUCT(1+_xlfn._xlws.FILTER(tabIndices[PERCENTUAL],tabIndices[DATA DA PUBLICAÇÃO]>tabUniformes[[#This Row],[DATA PUBLICAÇÃO]])),1)} -> 95.13 | F12: 1 | G12: ASSISTENTE DE COMPRAS - 220 H | H12: 21 | I12: =tabUniformes[[#This Row],[Valor Reajustado]]*tabUniformes[[#This Row],[Qtde Anual de Peças]]*tabUniformes[[#This Row],[Qtde. funcionários]] -> 1997.73 | J12: =tabUniformes[[#This Row],[Qtde Anual de Peças]]*tabUniformes[[#This Row],[Qtde. funcionários]] -> 21 | K12: =IFERROR(tabUniformes[[#This Row],[Total]]/12/tabUniformes[[#This Row],[Qtde. funcionários]],0) -> 7.9275 | M12: AUXILIAR DE ARQUIVO II - 150 H | N12: 3 | X12: 12 | Y12: 649.63983 | Z12: 18.045551 | AD12: 18 | AE12: 757.91313 | AF12: 21.053143 | AG12: 3 | AH12: 180.45551 | AI12: 5.012653 | AY12: 3 | AZ12: 108.2733 | BA12: 3.0075918 | BN12: 1080 | BO12: 248.4 | BP12: 6.9 | BQ12: 72 | BR12: 159.84 | BS12: 4.44 | BT12: 72 | BU12: 100.08 | BV12: 2.78 | BW12: 2100 | BX12: 574.14 | BY12: 15.948333 | BZ12: 360 | CA12: 108 | CB12: 3 | CC12: 6 | CD12: 1680.24 | CE12: 46.673333 | CF12: 36 | CG12: 276.12 | CH12: 7.67 | CI12: 78 | CJ12: 1946.1 | CK12: 54.058333 | CL12: 78 | CM12: 70.98 | CN12: 1.9716667 | HQ12: 3918 | HR12: 6860.1818 | HS12: 190.5606
A13: Camisa manga curta | B13: Polo em malha de algodão | D13: 69.83 | E13: {=tabUniformes[[#This Row],[Valor Inicial]]*IFERROR(PRODUCT(1+_xlfn._xlws.FILTER(tabIndices[PERCENTUAL],tabIndices[DATA DA PUBLICAÇÃO]>tabUniformes[[#This Row],[DATA PUBLICAÇÃO]])),1)} -> 69.83 | F13: 6 | G13: ASSISTENTE DE COMPRAS - 220 H | H13: 21 | I13: =tabUniformes[[#This Row],[Valor Reajustado]]*tabUniformes[[#This Row],[Qtde Anual de Peças]]*tabUniformes[[#This Row],[Qtde. funcionários]] -> 8798.58 | J13: =tabUniformes[[#This Row],[Qtde Anual de Peças]]*tabUniformes[[#This Row],[Qtde. funcionários]] -> 126 | K13: =IFERROR(tabUniformes[[#This Row],[Total]]/12/tabUniformes[[#This Row],[Qtde. funcionários]],0) -> 34.915 | M13: AUXILIAR DE CADASTRO E EXPEDICAO - 220 H | N13: 6 | X13: 24 | Y13: 1299.2797 | Z13: 18.045551 | AD13: 36 | AE13: 1515.8263 | AF13: 21.053143 | AG13: 6 | AH13: 360.91102 | AI13: 5.012653 | CC13: 12 | CD13: 3360.48 | CE13: 46.673333 | HQ13: 78 | HR13: 6536.4969 | HS13: 90.78468
A14: Calça Comprida | B14: Jeans escuro | D14: 94.82 | E14: {=tabUniformes[[#This Row],[Valor Inicial]]*IFERROR(PRODUCT(1+_xlfn._xlws.FILTER(tabIndices[PERCENTUAL],tabIndices[DATA DA PUBLICAÇÃO]>tabUniformes[[#This Row],[DATA PUBLICAÇÃO]])),1)} -> 94.82 | F14: 4 | G14: ASSISTENTE DE QUALIDADE - 220 H | H14: 117 | I14: 22087.754 | J14: 408 | K14: 46.016155 | M14: AUXILIAR DE MANUTENCAO PREDIAL - 220 H | N14: 22 | X14: 80 | Y14: 4330.9322 | Z14: 18.045551 | AA14: 160 | AB14: 4812.1469 | AC14: 20.050612 | AG14: 20 | AH14: 1203.0367 | AI14: 5.012653 | AV14: 40 | AW14: 1443.6441 | AX14: 6.0151836 | CC14: 44 | CD14: 12321.76 | CE14: 46.673333 | CF14: 44 | CG14: 337.48 | CH14: 1.2783333 | CO14: 22 | CP14: 540.1 | CQ14: 2.0458333 | CR14: 22 | CS14: 1991.66 | CT14: 7.5441667 | CU14: 44 | CV14: 2199.56 | CW14: 8.3316667 | CX14: 88 | CY14: 15519.68 | CZ14: 58.786667 | DA14: 88 | DB14: 15223.12 | DC14: 57.663333 | DD14: 22 | DE14: 488.4 | DF14: 1.85 | DG14: 22 | DH14: 1412.4 | DI14: 5.35 | DJ14: 22 | DK14: 7725.3 | DL14: 29.2625 | DM14: 264 | DN14: 2560.8 | DO14: 9.7 | DP14: 22 | DQ14: 7674.48 | DR14: 29.07 | DS14: 88 | DT14: 1774.96 | DU14: 6.7233333 | DV14: 264 | DW14: 9316.56 | DX14: 35.29 | DY14: 44 | DZ14: 319.88 | EA14: 1.2116667 | EB14: 264 | EC14: 1615.68 | ED14: 6.12 | EE14: 44 | EF14: 720.72 | EG14: 2.73 | EH14: 132 | EI14: 4224 | EJ14: 16 | EK14: 1100 | EL14: 15862 | EM14: 60.083333 | EN14: 22 | EO14: 436.92 | EP14: 1.655 | EQ14: 22 | ER14: 7577.9 | ES14: 28.704167 | ET14: 880 | EU14: 2200 | EV14: 8.3333333 | EW14: 440 | EX14: 10762.4 | EY14: 40.766667 | EZ14: 22 | FA14: 797.72 | FB14: 3.0216667 | FC14: 440 | FD14: 2261.6 | FE14: 8.5666667 | FF14: 88 | FG14: 5271.2 | FH14: 19.966667 | FI14: 44 | FJ14: 1459.48 | FK14: 5.5283333 | FL14: 22 | FM14: 7189.16 | FN14: 27.231667 | HQ14: 4920 | HR14: 151574.68 | HS14: 578.61233
A15: Agasalho | B15: Moletom aberto | D15: 95.13 | E15: {=tabUniformes[[#This Row],[Valor Inicial]]*IFERROR(PRODUCT(1+_xlfn._xlws.FILTER(tabIndices[PERCENTUAL],tabIndices[DATA DA PUBLICAÇÃO]>tabUniformes[[#This Row],[DATA PUBLICAÇÃO]])),1)} -> 95.13 | F15: 1 | G15: ASSISTENTE DE QUALIDADE - 220 H | H15: 117 | I15: =tabUniformes[[#This Row],[Valor Reajustado]]*tabUniformes[[#This Row],[Qtde Anual de Peças]]*tabUniformes[[#This Row],[Qtde. funcionários]] -> 11130.21 | J15: =tabUniformes[[#This Row],[Qtde Anual de Peças]]*tabUniformes[[#This Row],[Qtde. funcionários]] -> 117 | K15: =IFERROR(tabUniformes[[#This Row],[Total]]/12/40,0) -> 23.187937 | M15: BOMBEIRO HIDRAULICO - 220 H | N15: 8 | X15: 28 | Y15: 1515.8263 | Z15: 18.045551 | AA15: 56 | AB15: 1684.2514 | AC15: 20.050612 | AG15: 7 | AH15: 421.06285 | AI15: 5.012653 | AV15: 28 | AW15: 1010.5508 | AX15: 12.030367 | CC15: 16 | CD15: 4480.64 | CE15: 46.673333 | CF15: 16 | CG15: 122.72 | CH15: 1.2783333 | CR15: 8 | CS15: 724.24 | CT15: 7.5441667 | CU15: 16 | CV15: 799.84 | CW15: 8.3316667 | DD15: 8 | DE15: 177.6 | DF15: 1.85 | DG15: 8 | DH15: 513.6 | DI15: 5.35 | DJ15: 8 | DK15: 2809.2 | DL15: 29.2625 | DM15: 96 | DN15: 931.2 | DO15: 9.7 | DS15: 32 | DT15: 645.44 | DU15: 6.7233333 | DY15: 16 | DZ15: 116.32 | EA15: 1.2116667 | EB15: 96 | EC15: 587.52 | ED15: 6.12 | EE15: 8 | EF15: 131.04 | EG15: 1.365 | EH15: 32 | EI15: 1024 | EJ15: 10.666667 | EK15: 400 | EL15: 5768 | EM15: 60.083333 | EQ15: 8 | ER15: 2755.6 | ES15: 28.704167 | ET15: 192 | EU15: 480 | EV15: 5 | EW15: 160 | EX15: 3913.6 | EY15: 40.766667 | EZ15: 8 | FA15: 290.08 | FB15: 3.0216667 | FC15: 80 | FD15: 411.2 | FE15: 4.2833333 | FL15: 96 | FM15: 31370.88 | FN15: 326.78 | HQ15: 1423 | HR15: 62684.411 | HS15: 659.85502
A16: Camisa manga curta | B16: Polo em malha de algodão | D16: 69.83 | E16: {=tabUniformes[[#This Row],[Valor Inicial]]*IFERROR(PRODUCT(1+_xlfn._xlws.FILTER(tabIndices[PERCENTUAL],tabIndices[DATA DA PUBLICAÇÃO]>tabUniformes[[#This Row],[DATA PUBLICAÇÃO]])),1)} -> 69.83 | F16: 6 | G16: ASSISTENTE DE QUALIDADE - 220 H | H16: 117 | I16: 25769.047 | J16: 612 | K16: 53.685514 | M16: CARREGADOR - 220 H | N16: 20 | U16: 80 | V16: 3368.5028 | W16: 14.035428 | AA16: 160 | AB16: 4812.1469 | AC16: 20.050612 | AG16: 20 | AH16: 1203.0367 | AI16: 5.012653 | CC16: 40 | CD16: 11201.6 | CE16: 46.673333 | DY16: 240 | DZ16: 1744.8 | EA16: 7.27 | FO16: 20 | FP16: 361.4 | FQ16: 1.5058333 | FR16: 20 | FS16: 1711.4 | FT16: 7.1308333 | HQ16: 580 | HR16: 24402.886 | HS16: 101.67869
A17: Calça Comprida | B17: Jeans escuro | D17: 94.82 | E17: {=tabUniformes[[#This Row],[Valor Inicial]]*IFERROR(PRODUCT(1+_xlfn._xlws.FILTER(tabIndices[PERCENTUAL],tabIndices[DATA DA PUBLICAÇÃO]>tabUniformes[[#This Row],[DATA PUBLICAÇÃO]])),1)} -> 94.82 | F17: 4 | G17: ASSISTENTE EM TECNOLOGIA DA INFORMACAO I - 220 H | H17: 15 | I17: 3248.1991 | J17: 60 | K17: 18.045551 | M17: CONTINUO - 220 H | N17: 106 | X17: 420 | Y17: 22737.394 | Z17: 18.045551 | AD17: 630 | AE17: 26526.96 | AF17: 21.053143 | AG17: 105 | AH17: 6315.9428 | AI17: 5.012653 | FU17: 210 | FV17: 15158.263 | FW17: 12.030367 | HQ17: 1365 | HR17: 70738.559 | HS17: 56.141714
A18: Agasalho | B18: Moletom aberto | D18: 95.13 | E18: {=tabUniformes[[#This Row],[Valor Inicial]]*IFERROR(PRODUCT(1+_xlfn._xlws.FILTER(tabIndices[PERCENTUAL],tabIndices[DATA DA PUBLICAÇÃO]>tabUniformes[[#This Row],[DATA PUBLICAÇÃO]])),1)} -> 95.13 | F18: 1 | G18: ASSISTENTE EM TECNOLOGIA DA INFORMACAO I - 220 H | H18: 15 | I18: 902.27754 | J18: 15 | K18: 5.012653 | M18: COPEIRO - 220 H | N18: 13 | U18: 52 | V18: 2189.5268 | W18: 14.035428 | AA18: 104 | AB18: 3127.8955 | AC18: 20.050612 | AG18: 13 | AH18: 781.97387 | AI18: 5.012653 | CC18: 26 | CD18: 7281.04 | CE18: 46.673333 | EB18: 312 | EC18: 1909.44 | ED18: 12.24 | FX18: 52 | FY18: 691.08 | FZ18: 4.43 | GA18: 52 | GB18: 16.64 | GC18: 0.10666667 | GD18: 52 | GE18: 803.4 | GF18: 5.15 | HQ18: 663 | HR18: 16800.996 | HS18: 107.69869
A19: Camisa manga curta | B19: Polo em malha de algodão | D19: 69.83 | E19: {=tabUniformes[[#This Row],[Valor Inicial]]*IFERROR(PRODUCT(1+_xlfn._xlws.FILTER(tabIndices[PERCENTUAL],tabIndices[DATA DA PUBLICAÇÃO]>tabUniformes[[#This Row],[DATA PUBLICAÇÃO]])),1)} -> 69.83 | F19: 6 | G19: ASSISTENTE EM TECNOLOGIA DA INFORMACAO I - 220 H | H19: 15 | I19: 3789.5657 | J19: 90 | K19: 21.053143 | M19: DIGITADOR - 150 H | N19: 17 | X19: 68 | Y19: 3681.2924 | Z19: 18.045551 | AD19: 102 | AE19: 4294.8411 | AF19: 21.053143 | AG19: 17 | AH19: 1022.5812 | AI19: 5.012653 | HQ19: 187 | HR19: 8998.7147 | HS19: 44.111346
A20: Calça Comprida | B20: Jeans escuro | D20: 94.82 | E20: {=tabUniformes[[#This Row],[Valor Inicial]]*IFERROR(PRODUCT(1+_xlfn._xlws.FILTER(tabIndices[PERCENTUAL],tabIndices[DATA DA PUBLICAÇÃO]>tabUniformes[[#This Row],[DATA PUBLICAÇÃO]])),1)} -> 94.82 | F20: 4 | G20: ASSISTENTE EM TECNOLOGIA DA INFORMACAO II - 220 H | H20: 10 | I20: 2165.4661 | J20: 40 | K20: 18.045551 | M20: ELETRICISTA - 220 H | N20: 18 | X20: 68 | Y20: 3681.2924 | Z20: 18.045551 | AA20: 136 | AB20: 4090.3249 | AC20: 20.050612 | AG20: 17 | AH20: 1022.5812 | AI20: 5.012653 | AV20: 68 | AW20: 2454.1949 | AX20: 12.030367 | CC20: 36 | CD20: 10081.44 | CE20: 46.673333 | CF20: 36 | CG20: 276.12 | CH20: 1.2783333 | CR20: 18 | CS20: 1629.54 | CT20: 7.5441667 | CX20: 72 | CY20: 12697.92 | CZ20: 58.786667 | DA20: 72 | DB20: 12455.28 | DC20: 57.663333 | DD20: 18 | DE20: 399.6 | DF20: 1.85 | DG20: 18 | DH20: 1155.6 | DI20: 5.35 | DJ20: 18 | DK20: 6320.7 | DL20: 29.2625 | DP20: 18 | DQ20: 6279.12 | DR20: 29.07 | DS20: 36 | DT20: 726.12 | DU20: 3.3616667 | DY20: 36 | DZ20: 261.72 | EA20: 1.2116667 | EE20: 18 | EF20: 294.84 | EG20: 1.365 | EK20: 900 | EL20: 12978 | EM20: 60.083333 | EQ20: 18 | ER20: 6200.1 | ES20: 28.704167 | EW20: 360 | EX20: 8805.6 | EY20: 40.766667 | EZ20: 18 | FA20: 652.68 | FB20: 3.0216667 | FC20: 180 | FD20: 925.2 | FE20: 4.2833333 | GG20: 36 | GH20: 1185.84 | GI20: 5.49 | HQ20: 2197 | HR20: 94573.813 | HS20: 440.90502
A21: Agasalho | B21: Moletom aberto | D21: 95.13 | E21: {=tabUniformes[[#This Row],[Valor Inicial]]*IFERROR(PRODUCT(1+_xlfn._xlws.FILTER(tabIndices[PERCENTUAL],tabIndices[DATA DA PUBLICAÇÃO]>tabUniformes[[#This Row],[DATA PUBLICAÇÃO]])),1)} -> 95.13 | F21: 1 | G21: ASSISTENTE EM TECNOLOGIA DA INFORMACAO II - 220 H | H21: 10 | I21: 601.51836 | J21: 10 | K21: 5.012653 | M21: ENCARREGADO - 220 H | N21: 5 | O21: 5 | P21: 390.98693 | Q21: 6.5164489 | R21: 20 | S21: 842.1257 | T21: 14.035428 | BB21: 10 | BC21: 721.82203 | BD21: 12.030367 | BE21: 30 | BF21: 1443.6441 | BG21: 24.060734 | HQ21: 65 | HR21: 3398.5787 | HS21: 56.642979
A22: Camisa manga curta | B22: Polo em malha de algodão | D22: 69.83 | E22: {=tabUniformes[[#This Row],[Valor Inicial]]*IFERROR(PRODUCT(1+_xlfn._xlws.FILTER(tabIndices[PERCENTUAL],tabIndices[DATA DA PUBLICAÇÃO]>tabUniformes[[#This Row],[DATA PUBLICAÇÃO]])),1)} -> 69.83 | F22: 6 | G22: ASSISTENTE EM TECNOLOGIA DA INFORMACAO II - 220 H | H22: 10 | I22: 2526.3771 | J22: 60 | K22: 21.053143 | M22: FOTOGRAFO - 150 H | N22: 4 | R22: 4 | S22: 420 | T22: 8.75 | X22: 16 | Y22: 866.18644 | Z22: 18.045551 | AD22: 24 | AE22: 1010.5508 | AF22: 21.053143 | AM22: 4 | AN22: 312.78955 | AO22: 6.5164489 | BE22: 8 | BF22: 792 | BG22: 16.5 | BH22: 4 | BI22: 288.72881 | BJ22: 6.0151836 | CC22: 8 | CD22: 2240.32 | CE22: 46.673333 | HQ22: 68 | HR22: 5930.5756 | HS22: 123.55366
A23: Calçados M/F | B23: Calçado Ocupacional Tipo Botina | D23: 280.04 | E23: {=tabUniformes[[#This Row],[Valor Inicial]]*IFERROR(PRODUCT(1+_xlfn._xlws.FILTER(tabIndices[PERCENTUAL],tabIndices[DATA DA PUBLICAÇÃO]>tabUniformes[[#This Row],[DATA PUBLICAÇÃO]])),1)} -> 280.04 | F23: 2 | G23: AUXILIAR DE ARQUIVO I - 220 H | H23: 27 | I23: =tabUniformes[[#This Row],[Valor Reajustado]]*tabUniformes[[#This Row],[Qtde Anual de Peças]]*tabUniformes[[#This Row],[Qtde. funcionários]] -> 15122.16 | J23: =tabUniformes[[#This Row],[Qtde Anual de Peças]]*tabUniformes[[#This Row],[Qtde. funcionários]] -> 54 | K23: =IFERROR(tabUniformes[[#This Row],[Total]]/12/tabUniformes[[#This Row],[Qtde. funcionários]],0) -> 46.673333 | M23: GARCOM - 220 H | N23: 16 | O23: 16 | P23: 1251.1582 | Q23: 6.5164489 | R23: 64 | S23: 2694.8023 | T23: 14.035428 | AJ23: 16 | AK23: 769.9435 | AL23: 4.0101224 | AP23: 16 | AQ23: 384.97175 | AR23: 2.0050612 | BE23: 96 | BF23: 4619.661 | BG23: 24.060734 | BH23: 32 | BI23: 2309.8305 | BJ23: 12.030367 | HQ23: 240 | HR23: 12030.367 | HS23: 62.658163
A24: Calça Comprida | B24: Jeans escuro | D24: 94.82 | E24: {=tabUniformes[[#This Row],[Valor Inicial]]*IFERROR(PRODUCT(1+_xlfn._xlws.FILTER(tabIndices[PERCENTUAL],tabIndices[DATA DA PUBLICAÇÃO]>tabUniformes[[#This Row],[DATA PUBLICAÇÃO]])),1)} -> 94.82 | F24: 4 | G24: AUXILIAR DE ARQUIVO I - 220 H | H24: 27 | I24: 5846.7585 | J24: 108 | K24: 18.045551 | M24: JARDINEIRO - 220 H | N24: 13 | U24: 52 | V24: 2189.5268 | W24: 14.035428 | AA24: 104 | AB24: 3127.8955 | AC24: 20.050612 | AG24: 13 | AH24: 781.97387 | AI24: 5.012653 | AV24: 52 | AW24: 1876.7373 | AX24: 12.030367 | CC24: 13 | CD24: 3640.52 | CE24: 23.336667 | CF24: 13 | CG24: 99.71 | CH24: 0.63916667 | CO24: 26 | CP24: 638.3 | CQ24: 4.0916667 | CR24: 13 | CS24: 1176.89 | CT24: 7.5441667 | CU24: 13 | CV24: 649.87 | CW24: 4.1658333 | DD24: 13 | DE24: 288.6 | DF24: 1.85 | DJ24: 13 | DK24: 4564.95 | DL24: 29.2625 | DS24: 52 | DT24: 1048.84 | DU24: 6.7233333 | EE24: 13 | EF24: 212.94 | EG24: 1.365 | EH24: 78 | EI24: 2496 | EJ24: 16 | FC24: 78 | FD24: 400.92 | FE24: 2.57 | FF24: 13 | FG24: 778.7 | FH24: 4.9916667 | FI24: 13 | FJ24: 431.21 | FK24: 2.7641667 | FL24: 13 | FM24: 4248.14 | FN24: 27.231667 | FO24: 13 | FP24: 234.91 | FQ24: 1.5058333 | GJ24: 312 | GK24: 848.64 | GL24: 5.44 | GM24: 13 | GN24: 558.48 | GO24: 3.58 | GP24: 78 | GQ24: 198.9 | GR24: 1.275 | GS24: 156 | GT24: 4670.64 | GU24: 29.94 | GV24: 13 | GW24: 144.69 | GX24: 0.9275 | HQ24: 1170 | HR24: 35307.983 | HS24: 226.33323
A25: Luvas | B25: Luvas Descartáveis De Látex (Com Pó) Tamanhos P, M, G | D25: 0.2734 | E25: {=tabUniformes[[#This Row],[Valor Inicial]]*IFERROR(PRODUCT(1+_xlfn._xlws.FILTER(tabIndices[PERCENTUAL],tabIndices[DATA DA PUBLICAÇÃO]>tabUniformes[[#This Row],[DATA PUBLICAÇÃO]])),1)} -> 0.2734 | F25: 700 | G25: AUXILIAR DE ARQUIVO I - 220 H | H25: 27 | I25: =tabUniformes[[#This Row],[Valor Reajustado]]*tabUniformes[[#This Row],[Qtde Anual de Peças]]*tabUniformes[[#This Row],[Qtde. funcionários]] -> 5167.26 | J25: =tabUniformes[[#This Row],[Qtde Anual de Peças]]*tabUniformes[[#This Row],[Qtde. funcionários]] -> 18900 | K25: =IFERROR(tabUniformes[[#This Row],[Total]]/12/tabUniformes[[#This Row],[Qtde. funcionários]],0) -> 15.948333 | M25: LAVADOR DE VEICULOS - 220 H | N25: 1 | U25: 4 | V25: 168.42514 | W25: 14.035428 | AA25: 8 | AB25: 240.60734 | AC25: 20.050612 | AG25: 1 | AH25: 60.151836 | AI25: 5.012653 | CC25: 2 | CD25: 560.08 | CE25: 46.673333 | CF25: 2 | CG25: 15.34 | CH25: 1.2783333 | CO25: 2 | CP25: 49.1 | CQ25: 4.0916667 | CU25: 2 | CV25: 99.98 | CW25: 8.3316667 | DM25: 6 | DN25: 58.2 | DO25: 4.85 | GY25: 2 | GZ25: 47.6 | HA25: 3.9666667 | HB25: 24 | HC25: 131.76 | HD25: 10.98 | HE25: 2 | HF25: 63.4 | HG25: 5.2833333 | HH25: 2 | HI25: 66.9 | HJ25: 5.575 | HQ25: 57 | HR25: 1561.5443 | HS25: 130.12869
A26: Luvas | B26: Luvas Descartáveis Nitrílica (Isenta De Pó) Tamanhos P, M, G | D26: 0.3 | E26: {=tabUniformes[[#This Row],[Valor Inicial]]*IFERROR(PRODUCT(1+_xlfn._xlws.FILTER(tabIndices[PERCENTUAL],tabIndices[DATA DA PUBLICAÇÃO]>tabUniformes[[#This Row],[DATA PUBLICAÇÃO]])),1)} -> 0.3 | F26: 120 | G26: AUXILIAR DE ARQUIVO I - 220 H | H26: 27 | I26: =tabUniformes[[#This Row],[Valor Reajustado]]*tabUniformes[[#This Row],[Qtde Anual de Peças]]*tabUniformes[[#This Row],[Qtde. funcionários]] -> 972 | J26: =tabUniformes[[#This Row],[Qtde Anual de Peças]]*tabUniformes[[#This Row],[Qtde. funcionários]] -> 3240 | K26: =IFERROR(tabUniformes[[#This Row],[Total]]/12/tabUniformes[[#This Row],[Qtde. funcionários]],0) -> 3 | M26: MANOBRISTA - 220 H | N26: 8 | O26: 7 | P26: 421.06285 | Q26: 5.012653 | R26: 28 | S26: 1178.976 | T26: 14.035428 | BE26: 42 | BF26: 2021.1017 | BG26: 24.060734 | BH26: 14 | BI26: 842.1257 | BJ26: 10.025306 | BK26: 16 | BL26: 2915.68 | BM26: 30.371667 | HK26: 16 | HL26: 1459.84 | HM26: 15.206667 | HQ26: 123 | HR26: 8838.7862 | HS26: 98.712455
A27: Jaleco | B27: Manga comprida - Oxford ou poliéster com dois bolsos frontais | D27: 63.5 | E27: {=tabUniformes[[#This Row],[Valor Inicial]]*IFERROR(PRODUCT(1+_xlfn._xlws.FILTER(tabIndices[PERCENTUAL],tabIndices[DATA DA PUBLICAÇÃO]>tabUniformes[[#This Row],[DATA PUBLICAÇÃO]])),1)} -> 63.5 | F27: 1 | G27: AUXILIAR DE ARQUIVO I - 220 H | H27: 27 | I27: 974.45974 | J27: 27 | K27: 3.0075918 | M27: MARCENEIRO - 220 H | N27: 13 | X27: 52 | Y27: 2815.1059 | Z27: 18.045551 | AA27: 104 | AB27: 3127.8955 | AC27: 20.050612 | AG27: 13 | AH27: 781.97387 | AI27: 5.012653 | AV27: 52 | AW27: 1876.7373 | AX27: 12.030367 | CC27: 26 | CD27: 7281.04 | CE27: 46.673333 | CF27: 26 | CG27: 199.42 | CH27: 1.2783333 | CR27: 13 | CS27: 1176.89 | CT27: 7.5441667 | DD27: 13 | DE27: 288.6 | DF27: 1.85 | DG27: 13 | DH27: 834.6 | DI27: 5.35 | DJ27: 13 | DK27: 4564.95 | DL27: 29.2625 | DM27: 156 | DN27: 1513.2 | DO27: 9.7 | DS27: 26 | DT27: 524.42 | DU27: 3.3616667 | DY27: 26 | DZ27: 189.02 | EA27: 1.2116667 | EB27: 156 | EC27: 954.72 | ED27: 6.12 | EE27: 13 | EF27: 212.94 | EG27: 1.365 | EK27: 650 | EL27: 9373 | EM27: 60.083333 | EQ27: 13 | ER27: 4477.85 | ES27: 28.704167 | ET27: 520 | EU27: 1300 | EV27: 8.3333333 | EW27: 468 | EX27: 11447.28 | EY27: 73.38 | EZ27: 13 | FA27: 471.38 | FB27: 3.0216667 | FC27: 260 | FD27: 1336.4 | FE27: 8.5666667 | FF27: 52 | FG27: 3114.8 | FH27: 19.966667 | FI27: 26 | FJ27: 862.42 | FK27: 5.5283333 | FL27: 13 | FM27: 4248.14 | FN27: 27.231667 | HQ27: 2717 | HR27: 62972.783 | HS27: 403.67168
A28: Máscara | B28: Máscara Descartável Tripla | D28: 0.23 | E28: {=tabUniformes[[#This Row],[Valor Inicial]]*IFERROR(PRODUCT(1+_xlfn._xlws.FILTER(tabIndices[PERCENTUAL],tabIndices[DATA DA PUBLICAÇÃO]>tabUniformes[[#This Row],[DATA PUBLICAÇÃO]])),1)} -> 0.23 | F28: 360 | G28: AUXILIAR DE ARQUIVO I - 220 H | H28: 27 | I28: =tabUniformes[[#This Row],[Valor Reajustado]]*tabUniformes[[#This Row],[Qtde Anual de Peças]]*tabUniformes[[#This Row],[Qtde. funcionários]] -> 2235.6 | J28: =tabUniformes[[#This Row],[Qtde Anual de Peças]]*tabUniformes[[#This Row],[Qtde. funcionários]] -> 9720 | K28: =IFERROR(tabUniformes[[#This Row],[Total]]/12/tabUniformes[[#This Row],[Qtde. funcionários]],0) -> 6.9 | M28: MOTORISTA II - 220 H | N28: 13 | O28: 13 | P28: 1016.566 | Q28: 6.5164489 | R28: 52 | S28: 2189.5268 | T28: 14.035428 | AS28: 26 | AT28: 656.85805 | AU28: 4.2106285 | BE28: 130 | BF28: 6255.791 | BG28: 40.101224 | BH28: 26 | BI28: 1876.7373 | BJ28: 12.030367 | HK28: 26 | HL28: 2372.24 | HM28: 15.206667 | HQ28: 273 | HR28: 14367.719 | HS28: 92.100764
A29: Máscara | B29: Máscara N95 Com Válvula (50%) | D29: 1.39 | E29: {=tabUniformes[[#This Row],[Valor Inicial]]*IFERROR(PRODUCT(1+_xlfn._xlws.FILTER(tabIndices[PERCENTUAL],tabIndices[DATA DA PUBLICAÇÃO]>tabUniformes[[#This Row],[DATA PUBLICAÇÃO]])),1)} -> 1.39 | F29: 24 | G29: AUXILIAR DE ARQUIVO I - 220 H | H29: 27 | I29: =tabUniformes[[#This Row],[Valor Reajustado]]*tabUniformes[[#This Row],[Qtde Anual de Peças]]*tabUniformes[[#This Row],[Qtde. funcionários]] -> 900.72 | J29: =tabUniformes[[#This Row],[Qtde Anual de Peças]]*tabUniformes[[#This Row],[Qtde. funcionários]] -> 648 | K29: =IFERROR(tabUniformes[[#This Row],[Total]]/12/tabUniformes[[#This Row],[Qtde. funcionários]],0) -> 2.78 | M29: OPERADOR DE MAQUINA REPROGRAFICA - 220 H | N29: 3 | X29: 12 | Y29: 649.63983 | Z29: 18.045551 | AD29: 18 | AE29: 757.91313 | AF29: 21.053143 | AG29: 3 | AH29: 180.45551 | AI29: 5.012653 | CC29: 6 | CD29: 1680.24 | CE29: 46.673333 | HQ29: 39 | HR29: 3268.2485 | HS29: 90.78468
A30: Máscara | B30: Máscara N95 Sem Válvula (50%) | D30: 2.22 | E30: {=tabUniformes[[#This Row],[Valor Inicial]]*IFERROR(PRODUCT(1+_xlfn._xlws.FILTER(tabIndices[PERCENTUAL],tabIndices[DATA DA PUBLICAÇÃO]>tabUniformes[[#This Row],[DATA PUBLICAÇÃO]])),1)} -> 2.22 | F30: 24 | G30: AUXILIAR DE ARQUIVO I - 220 H | H30: 27 | I30: =tabUniformes[[#This Row],[Valor Reajustado]]*tabUniformes[[#This Row],[Qtde Anual de Peças]]*tabUniformes[[#This Row],[Qtde. funcionários]] -> 1438.56 | J30: =tabUniformes[[#This Row],[Qtde Anual de Peças]]*tabUniformes[[#This Row],[Qtde. funcionários]] -> 648 | K30: =IFERROR(tabUniformes[[#This Row],[Total]]/12/tabUniformes[[#This Row],[Qtde. funcionários]],0) -> 4.44 | M30: PEDREIRO - 220 H | N30: 6 | X30: 16 | Y30: 866.18644 | Z30: 18.045551 | AA30: 32 | AB30: 962.42938 | AC30: 20.050612 | AG30: 4 | AH30: 240.60734 | AI30: 5.012653 | AV30: 16 | AW30: 577.45763 | AX30: 12.030367 | CC30: 12 | CD30: 3360.48 | CE30: 46.673333 | CF30: 12 | CG30: 92.04 | CH30: 1.2783333 | CR30: 6 | CS30: 543.18 | CT30: 7.5441667 | CU30: 6 | CV30: 299.94 | CW30: 4.1658333 | DD30: 6 | DE30: 133.2 | DF30: 1.85 | DG30: 6 | DH30: 385.2 | DI30: 5.35 | DJ30: 6 | DK30: 2106.9 | DL30: 29.2625 | DM30: 72 | DN30: 698.4 | DO30: 9.7 | DS30: 24 | DT30: 484.08 | DU30: 6.7233333 | DY30: 12 | DZ30: 87.24 | EA30: 1.2116667 | EB30: 36 | EC30: 220.32 | ED30: 3.06 | EE30: 6 | EF30: 98.28 | EG30: 1.365 | EK30: 300 | EL30: 4326 | EM30: 60.083333 | EQ30: 6 | ER30: 2066.7 | ES30: 28.704167 | ET30: 240 | EU30: 600 | EV30: 8.3333333 | EW30: 120 | EX30: 2935.2 | EY30: 40.766667 | EZ30: 6 | FA30: 217.56 | FB30: 3.0216667 | FF30: 24 | FG30: 1437.6 | FH30: 19.966667 | FL30: 6 | FM30: 1960.68 | FN30: 27.231667 | HQ30: 974 | HR30: 24699.681 | HS30: 361.43085
