Workbook
Name CARGOS: tabCargos[#All]
Name CARGOS: [1]!tabCargos[#All]
Name CARGOS: tabCargos[#All]
Name COMARCAS: tabComarca[#All]
Name COMARCAS: [1]!tabComarca[#All]
Name COMARCAS: tabComarca[#All]
Name FromArray_1: _xlfn.ANCHORARRAY('[1]CUSTO GLOBAL1'!$C$2)
Name FromArray_2: _xlfn.ANCHORARRAY('[1]CUSTO GLOBAL1'!$A$1)
Name Index_Sheet_Kutools: #REF!
Name SegmentaçãodeDados_Cargo: #N/A

Sheet ORIENTAÇÕES PARA O LICITANTE
A1: ORIENTAÇÕES PARA OS LICITANTES
A3: OBTENÇÃO DO PREÇO DA PROPOSTA | B3: O PREÇO MÁXIMO GLOBAL PERMITIDO PARA A PROPOSTA SERÁ DE R$ 14.682.971,94 - MENSAL E R$ 176.195.663,28 - ANUAL, SENDO QUE DESSE PREÇO, R$ 2.083.443,20 (MENSAL) E R$ 25.001.318,35 (ANUAL) CORRESPONDE AO PREÇO DA CATEGORIA LIMPEZA E CONSERVAÇÃO E O RESTANTE R$ 12.599.528,74 (MENSAL) E R$ 151.194.344,93 CORRESPONDE A CATEGORIA APOIO ADMINISTRATIVO E MOTORISTAS. IMPORTANTE: VALORES IRRISÓRIOS PARA A PROPOSTA OU PARA QUALQUER UM DOS ITENS PASSÍVEIS DE REDUÇÃO DURANTE A LICITAÇÃO, BEM COMO PARA O LDI (CUSTO INDIRETO E LUCRO), PODERÃO TORNAR A PROPOSTA INEXEQUÍVEL. OCORRENDO TAL FATO, A CONTRATANTE SOLICITARÁ DILIGÊNCIAS PARA QUE O LICITANTE VENCEDOR COMPROVE A EXEQUIBILIDADE DA PROPOSTA . NÃO HAVENDO COMPROVAÇÃO DA EXIQUIBILIDADE O LICITANTE PODERÁ SER DESCLASSIFICADO. O PREÇO DA PROPOSTA PARA OS CARGOS DE LIMPZA E CONSERVAÇÃO PODERÁ SER OBSERVADO NESTE APENSO NA ABA "CUSTO GLOBAL" CÉLULAS "BZ256" (VALOR MENSAL) E "CA256" (VALOR ANUAL). RESSALTA-SE QUE, PARA OBTER O PREÇO DA PROPOSTA, O LICITANTE NÃO PRECISA ALTERAR O VALOR INDICADO NAS CÉLULAS ACIMA, DEVENDO OBSERVAR E PRATICAR AS ORIENTAÇÕES A SEGUIR PARA ALTERAÇÃO SOMENTE DOS CAMPOS PASSÍVEIS DE REDUÇÃO DURANTE A LICITAÇÃO. À MEDIDA QUE AS ALTERAÇÕES FOREM SENDO REALIZADAS PELO LICITANTE NOS CAMPOS INFRAMENCIONADOS, O VALOR FINAL DA PROPOSTA SERÁ ATUALIZADO AUTOMATICAMENTE NA ABA "CUSTO GLOBAL" CÉLULAS "BZ256" (VALOR MENSAL) E "CA256" (VALOR ANUAL).
A5: REDUÇÃO DO RAT AJUSTADO - SUBMÓDULO 2.1 - ITEM G | B5: O PERCENTUAL MÁXIMO PERMITIDO PARA RAT AJUSTADO É DE 4% (2% DE RAT MULTIPLICADO POR 2 DE FAP). Este item poderá ser reduzido na licitação. Para tanto, o licitante deverá alterar o valor contido "AE8" da aba "BASE GERAL" deste Apenso. Ressalva-se que a modificação desse item na célula retromencionada promoverá a atualização em todas as demais abas, sem necessidade de qualquer outra alteração manual em outro campo deste Apenso. O percentual informado pela licitante vencedora para este item será praticado durante todo o período de vigência do contrato e o valor correspondente apurado na proposta será fixo para cada posto. A alteração do percentual do RAT ajustado, no decorrer do contrato, somente será processada mediante solicitação e comprovação da contratada.
A6: REDUÇÃO DO SEGURO DE VIDA - SUBMÓDULO 2.3 - ITEM G | B6: PREÇO MÁXIMO PERMITIDO R$3,36. Este item poderá ser reduzido na licitação. Para tanto, o licitante deverá alterar o valor contido na célula "AA5" da aba "BASE GERAL" deste Apenso. Ressalva-se que a modificação desse item na célula retromencionada promoverá a atualização em todas as demais abas, sem necessidade de qualquer outra alteração manual em outro campo deste Apenso. O preço informado pela licitante vencedora para este item será praticado durante todo o período de vigência do contrato e o valor correspondente apurado na proposta será fixo para cada posto, podendo ser reajustado anualmente pelo IPCA.
A7: REDUÇÃO DO CUSTO UNITÁRIO DOS UNIFORMES E EPIS - MÓDULO 5 - ITEM A | B7: PREÇOS MÁXIMOS PERMITIDOS CONFORME APENSO VIII E VALORES UNITÁRIOS CONSTANTES NA ABA "UNIFORMES" DESTE APENSO. Este item poderá ser reduzido na licitação. Para tanto, o licitante deverá acessar a aba “UNIFORMES” deste Apenso e alterar as células da coluna D, sinalizadas em amarelo, informando os valores unitários que serão empregados ao longo da execução contratual. Assim, automaticamente os custos de uniforme por posto serão alterados e atualizados nas células da coluna K da aba “UNIFORMES” e em todas as demais abas da planilha, sem a necessidade de alteração manual em qualquer outro campo deste apenso. O preço informado pela licitante vencedora para este item será praticado durante todo o período de vigência do contrato e o valor correspondente apurado na proposta será fixo para cada posto, podendo ser reajustado anualmente pelo IPCA.
A8: REDUÇÃO DO CUSTO UNITÁRIO DOS MATERIAIS DE CONSUMO - MÓDULO 5 - ITEM B | B8: PREÇOS MÁXIMOS PERMITIDOS CONFORME APENSO IX E VALORES UNITÁRIOS CONSTANTES NA ABA "INSUMOS AUX. DE LIMPEZA" DESTE APENSO. **Materiais de consumo utilizados nos serviços de limpeza: na aba "INSUMOS AUX. DE LIMPEZA" os preços unitários constantes nas células da coluna J, sinalizadas em amarelo, poderão ser reduzidos. Para tanto, basta filtra na coluna tipo o item "Material" e alterar o valor dessas células. Os valores unitários por posto que dependem desse preço serão automaticamente alterados nas células da coluna P e aplicados em todas as demais planilhas para a formação do preço. Não é necessário alterar nenhum outro campo manualmente. O preço informado pela licitante vencedora para estes itens serão praticados durante todo o período de vigência do contrato e o valor correspondente apurado na proposta será fixo para cada posto, podendo ser reajustado anualmente pelo IPCA.
A9: REDUÇÃO DO CUSTO UNITÁRIO DAS MÁQUINAS E EQUIPAMENTOS (DEPRECIAÇÃO) - MÓDULO 5 - ITEM C | B9: PREÇOS MÁXIMOS PERMITIDOS CONFORME APENSO XI E VALORES UNITÁRIOS CONSTANTES NAS ABAS "INSUMOS AUX. DE LIMPEZA" E "INSUMOS LIMP. DE VIDROS" DESTE APENSO. **Equipamentos utilizados nos serviços de limpeza: nas abas "INSUMOS AUX. DE LIMPEZA" E "INSUMOS LIMP. DE VIDROS" os preços unitários constantes nas células da coluna J, sinalizadas em amarelo, poderão ser reduzidos. Para tanto, basta filtra na coluna tipo o item "Equipamento" e alterar o valor dessas células. Os valores unitários por posto que dependem desse preço serão automaticamente alterados nas células da coluna P e aplicados em todas as demais planilhas para a formação do preço. Não é necessário alterar nenhum outro campo manualmente. O preço informado pela licitante vencedora para estes itens serão praticados durante todo o período de vigência do contrato e o valor correspondente apurado na proposta será fixo para cada posto, podendo ser reajustado anualmente pelo IPCA.
A10: REDUÇÃO DO CUSTO UNITÁRIO DOS PRODUTOS DE LIMPEZA E MATERIAIS DE HIGIENE PESSOAL - MÓDULO 5 - ITEM D | B10: PREÇOS MÁXIMOS PERMITIDOS CONFORME APENSO X E VALORES UNITÁRIOS CONSTANTES NA ABA "INSUMOS AUX. DE LIMPEZA" DESTE APENSO. **Para os Produtos utilizados nos serviços de limpeza: na aba "INSUMOS AUX. DE LIMPEZA" os preços unitários constantes nas células da coluna J, sinalizadas em amarelo, poderão ser reduzidos. Para tanto, basta filtra na coluna tipo o item "Produto" e alterar o valor dessas células. Os valores unitários por posto que dependem desse preço serão automaticamente alterados nas células da coluna P e aplicados em todas as demais planilhas para a formação do preço. Não é necessário alterar nenhum outro campo manualmente. O preço informado pela licitante vencedora para estes itens serão praticados durante todo o período de vigência do contrato e o valor correspondente apurado na proposta será fixo para cada posto, podendo ser reajustado anualmente pelo IPCA.
A12: COMPOSIÇÃO DO LDI - (DEVERÁ SER CALCULADO APÓS ATUALIZAÇÃO DOS ITENS DE RAT, SEGURO DE VIDA, UNIFORMES, MATERIAIS DE CONSUMO E EQUIPAMENTOS OS QUAIS PODERÃO SER REDUZIDOS NA LICITAÇÃO)
A13: CUSTO INDIRETO - MÓDULO 6 - ITEM A | B13: VALOR MÁXIMO PERMITIDO R$ 189,65 POR POSTO DA CATEGORIA DE Limpeza e Conservação. Para cálculo do Custo Indireto o licitante deverá: Na célula "AA3" da aba "BASE GERAL" deste Apenso, reduzir/alterar apenas o percentual de 5% (Limite Máximo) constante na fórmula obtida da seguinte forma: Divisão do total do Custo Direto (Soma dos módulos 1, 2, 3, 4 e 5 - célula "BO256" da aba "CUSTO GLOBAL") pelo total de vagas previstas (437 vagas - célula "G256" da aba "CUSTO GLOBAL") e multiplicação pelo percentual de Custo Indireto a ser praticado pelo licitante vencedor (Máximo 5%). O valor unitário obtido será fixo por posto de Limpeza e Conservação durante todo o período de vigência contratual, podendo ser alterado anualmente pelo IPCA. Ressalva-se que o valor obtido na célula "AA3" da aba "BASE GERAL" para o Custo Indireto dos postos de limpeza será automaticamente atualizado em todas as demais abas, sem necessidade de qualquer outra alteração manual em outro campo deste Apenso.
A14: LUCRO - MÓDULO 6 - ITEM B | B14: VALOR MÁXIMO PERMITIDO R$ 159,30 POR POSTO DA CATEGORIA Limpeza e Conservação. Para cálculo do Lucro o licitante deverá: Na célula "AA4" da aba "BASE GERAL" deste Apenso, reduzir/alterar apenas o percentual de 4% (Limite Máximo) constante na fórmula obtida da seguinte forma:- Soma do total do Custo Direto (Soma dos módulos 1, 2, 3, 4 e 5 - célula "BO256" da aba "CUSTO GLOBAL") com o total do Custo Indireto (célula "BP256" da aba "CUSTO GLOBAL"), dividido pelo total de vagas previstas (437 vagas - célula "G256" da aba "CUSTO GLOBAL") e multiplicação pelo percentual de Lucro a ser praticado pelo liciante vencedor (Máximo 4%). O valor unitário obtido será fixo por posto de Limpeza e Conservação durante todo o período de vigência contratual, podendo ser alterado anualmente pelo IPCA. Ressalva-se que o valor obtido na célula "AA4" da aba "BASE GERAL" para o Custo Indireto dos postos de limpeza será automaticamente atualizado em todas as demais abas, sem necessidade de qualquer outra alteração manual em outro campo deste Apenso.
A15: COFINS - MÓDULO 6 - ITEM C.1 | B15: O PERCENTUAL MÁXIMO PERMITIDO PARA O COFINS É DE 7,6%. Este item poderá ser reduzido na licitação. Para tanto, o licitante deverá alterar o valor contido na célula "AE10" da aba "BASE GERAL" deste Apenso. Ressalva-se que a modificação desse item na célula retromencionada promoverá a atualização em todas as demais abas, sem necessidade de qualquer outra alteração manual em outro campo deste Apenso. O percentual informado pela licitante vencedora para este item será praticado durante todo o período de vigência do contrato, podendo ser alterado, no decorrer do contrato, somente numa eventual mudança do regime tributário, mediante solicitação e comprovação da contratada.
A16: PIS - MÓDULO 6 - ITEM C.2 | B16: O PERCENTUAL MÁXIMO PERMITIDO PARA O PIS É DE 1,65%. Este item poderá ser reduzido na licitação. Para tanto, o licitante deverá alterar o valor contido na célula "AE11" da aba "BASE GERAL" deste Apenso. Ressalva-se que a modificação desse item na célula retromencionada promoverá a atualização em todas as demais abas, sem necessidade de qualquer outra alteração manual em outro campo deste Apenso. O percentual informado pela licitante vencedora para este item será praticado durante todo o período de vigência do contrato, podendo ser alterado, no decorrer do contrato, somente numa eventual mudança do regime tributário, mediante solicitação e comprovação da contratada.

Sheet BASE GERAL
A1: COMARCA | B1: Sigla | C1: Codigo Comarca | D1: ISS | E1: VT | G1: Cargo | H1: Sigla | I1: Codigo Cargo | K1: Lotacao | L1: Tipo | M1: Codigo Lote | O1: IDENTIFICAÇÃO DO POSTO | Q1: DESPESA DE VIAGEM | R1: VALOR UNIT. | S1: QUANT. POSTOS INICIAL | T1: VALOR TOTAL PREVISTO | V1: ÍNDICE DE REAJUSTE - IPCA / IBGE | Z1: OUTROS CUSTOS | AD1: Impostos Nacionais | AE1: Alíquota
A2: ABAETE | B2: AET | C2: 002 | D2: 0.025 | E2: 6.4 | G2: AUXILIAR DE LIMPEZA - 12 X 36 - DIURNO | I2: 01 | K2: PGJ | L2: LIMPEZA | M2: 2 | O2: Lote | Q2: LIMPEZA | R2: =10.19 -> 10.19 | S2: 120 | T2: =tabDiarias[[#This Row],[VALOR UNIT.]]*tabDiarias[[#This Row],[QUANT. POSTOS INICIAL]] -> 1222.8 | V2: TA / APOSTILAMENTO | W2: DATA DA PUBLICAÇÃO | X2: PERCENTUAL | Z2: TIPO | AA2: VALOR INICIAL P/ FUNCIONÁRIO | AB2: VALOR CORRIGIDO | AD2: INSS | AE2: 0.2
A3: ABRE CAMPO | B3: ABN | C3: 003 | D3: 0.02 | E3: 6.4 | G3: AUXILIAR DE LIMPEZA - 12 X 36 - NOTURNO | I3: 02 | K3: FEPDC | L3: LIMPEZA | M3: 4 | O3: Código | X3: 0 | Z3: Custos Indiretos | AA3: =(SUMIF('CUSTO GLOBAL'!E:E,"Limpeza",'CUSTO GLOBAL'!BO:BO)/SUMIF('CUSTO GLOBAL'!E:E,"Limpeza",'CUSTO GLOBAL'!G:G)*5%) -> 189.6488 | AB3: {=AA3*PRODUCT((1+(_xlfn._xlws.FILTER(tabIndices[PERCENTUAL],tabIndices[PERCENTUAL]>0,0))))} -> 189.6488 | AD3: SESI OU SESC | AE3: 0.015
A4: ACUCENA | B4: ACN | C4: 005 | E4: 6.4 | G4: AUXILIAR DE LIMPEZA - 75 H | I4: 03 | O4: Cargo | Q4: Salário Mínimo Vigente | R4: 1518 | X4: 0 | Z4: Lucro | AA4: =(SUMIF('CUSTO GLOBAL'!E:E,"Limpeza",'CUSTO GLOBAL'!BO:BO)+SUMIF('CUSTO GLOBAL'!E:E,"Limpeza",'CUSTO GLOBAL'!BP:BP))/SUMIF('CUSTO GLOBAL'!E:E,"Limpeza",'CUSTO GLOBAL'!G:G)*4% -> 159.30499 | AB4: {=AA4*PRODUCT((1+(_xlfn._xlws.FILTER(tabIndices[PERCENTUAL],tabIndices[PERCENTUAL]>0,0))))} -> 159.30499 | AD4: SENAI OU SENAC | AE4: 0.01
A5: AGUAS FORMOSAS | B5: AGF | C5: 009 | D5: 0.05 | E5: 6.4 | G5: AUXILIAR DE LIMPEZA - 110 H | I5: 04 | O5: Nº. Posto | X5: 0 | Z5: Seguro de vida | AA5: 3.36 | AB5: {=AA5*PRODUCT((1+(_xlfn._xlws.FILTER(tabIndices[PERCENTUAL],tabIndices[PERCENTUAL]>0,0))))} -> 3.36 | AD5: INCRA | AE5: 0.002
A6: AIMORES | B6: AOR | C6: 011 | D6: 0.05 | E6: 6.4 | G6: AUXILIAR DE LIMPEZA - 150 H | I6: 05 | X6: 0 | AD6: Salário Educação | AE6: 0.025
A7: AIURUOCA | B7: AUD | C7: 012 | D7: 0.03 | E7: 6.4 | G7: AUXILIAR DE LIMPEZA - 220 H | I7: 06 | X7: 0 | AD7: FGTS | AE7: 0.08
A8: ALEM PARAIBA | B8: API | C8: 015 | D8: 0.02 | E8: 6.4 | G8: LIMPADOR DE VIDROS - 220 H | I8: 07 | AD8: RAT Ajustado | AE8: =2%*2 -> 0.04
A9: ALFENAS | B9: AFN | C9: 016 | D9: 0.05 | E9: 6.4 | AD9: SEBRAE | AE9: 0.006
A10: ALMENARA | B10: AMN | C10: 017 | D10: 0.05 | E10: 6.4 | AD10: COFINS | AE10: 0.076
A11: ALPINOPOLIS | B11: ALS | C11: 019 | D11: 0.02 | E11: 6.4 | AD11: PIS | AE11: 0.0165
A12: ALTO RIO DOCE | B12: ADC | C12: 021 | E12: 6.4
A13: ALVINOPOLIS | B13: ALL | C13: 023 | D13: 0.05 | E13: 6.4
A14: ANDRADAS | B14: ANA | C14: 026 | D14: 0.05 | E14: 6.4
A15: ANDRELANDIA | B15: ADL | C15: 028 | D15: 0.03 | E15: 6.4
A16: ARACUAI | B16: AUI | C16: 034 | D16: 0.03 | E16: 6.4
A17: ARAGUARI | B17: ARI | C17: 035 | D17: 0.03 | E17: 6.4
A18: ARAXA | B18: AXA | C18: 040 | D18: 0.02 | E18: 6.4
A19: ARCOS | B19: ACS | C19: 042 | D19: 0.02 | E19: 6.4
A20: AREADO | B20: ADO | C20: 043 | D20: 0.04 | E20: 6.4
A21: ARINOS | B21: AYN | C21: 778 | D21: 0.03 | E21: 6.4
A22: BAEPENDI | B22: BAD | C22: 049 | D22: 0.03 | E22: 6.4
A23: BAMBUI | B23: BBI | C23: 051 | E23: 6.4
A24: BARAO DE COCAIS | B24: BCS | C24: 054 | D24: 0.05 | E24: 6.4
A25: BARBACENA | B25: BCA | C25: 056 | D25: 0.025 | E25: 6.4
A26: BARROSO | B26: BSO | C26: 059 | E26: 6.4
A27: BELO HORIZONTE | B27: BHE | C27: 024 | D27: 0.05 | E27: =5.75+5.5 -> 11.25
A28: BELO VALE | B28: BLL | C28: 064 | E28: 6.4
A29: BETIM | B29: BET | C29: 027 | D29: 0.038 | E29: 6.4
A30: BICAS | B30: BIS | C30: 069 | D30: 0.02 | E30: 6.4
A31: BOA ESPERANCA | B31: BOE | C31: 071 | D31: 0.04 | E31: 6.4
A32: BOCAIUVA | B32: BCV | C32: 073 | D32: 0.05 | E32: 6.4
A33: BOM DESPACHO | B33: BDP | C33: 074 | D33: 0.03 | E33: 6.4
A34: BOM SUCESSO | B34: BMS | C34: 080 | D34: 0.03 | E34: 6.4
A35: BONFIM | B35: BFM | C35: 081 | D35: 0.02 | E35: 6.4
A36: BONFINOPOLIS DE MINAS | B36: BFS | C36: 082 | D36: 0.02 | E36: 6.4
A37: BORDA DA MATA | B37: BOM | C37: 083 | E37: 6.4
A38: BOTELHOS | B38: BHS | C38: 084 | E38: 6.4
A39: BRASILIA DE MINAS | B39: BMN | C39: 086 | D39: 0.03 | E39: 6.4
A40: BRAZOPOLIS | B40: BPS | C40: 089 | D40: 0.02 | E40: 6.4
...

Sheet UNIFORMES
A2: Os preços unitários dos uniformes poderão ser reduzidos na licitação. Para tanto, basta filtrar o item e o tipo de uniforme e alterar o valor nas células da coluna D preenchidas em "amarelo".
N5: Tipo | O5: Valores
A6: Item | B6: Tipo | C6: DATA PUBLICAÇÃO | D6: Valor Inicial | E6: Valor Reajustado | F6: Qtde Anual de Peças | G6: Cargo | H6: Qtde. funcionários | I6: Total | J6: Qtde. Geral anual | K6: Valor unit. Mensal | N6: Brim, com cós de ajuste por amarração de cordão | O6: Brim, com cós de ajuste por amarração de cordão | P6: Brim, com cós de ajuste por amarração de cordão | Q6: Malha - PV | R6: Malha - PV | S6: Malha - PV | T6: Moletom aberto | U6: Moletom aberto | V6: Moletom aberto | W6: Bota de Borracha | X6: Bota de Borracha | Y6: Bota de Borracha | Z6: Calçado Ocupacional de Uso Profissional Tipo Sapato | AA6: Calçado Ocupacional de Uso Profissional Tipo Sapato | AB6: Calçado Ocupacional de Uso Profissional Tipo Sapato | AC6: Luva Nitrílica (Cano Médio) | AD6: Luva Nitrílica (Cano Médio) | AE6: Luva Nitrílica (Cano Médio) | AF6: Calçado Ocupacional Tipo Botina | AG6: Calçado Ocupacional Tipo Botina | AH6: Calçado Ocupacional Tipo Botina | AI6: Óculos de Segurança de Sobreposição Incolor Ou Fumê | AJ6: Óculos de Segurança de Sobreposição Incolor Ou Fumê | AK6: Óculos de Segurança de Sobreposição Incolor Ou Fumê | AL6: Total Qtde. itens p/ ano | AM6: Total Valor p/ ano | AN6: Total Valor unitário mensal
A7: Calça Comprida | B7: Brim, com cós de ajuste por amarração de cordão | D7: 60.93 | E7: {=tabUniformes[[#This Row],[Valor Inicial]]*IFERROR(PRODUCT(1+_xlfn._xlws.FILTER(tabIndices[PERCENTUAL],tabIndices[DATA DA PUBLICAÇÃO]>tabUniformes[[#This Row],[DATA PUBLICAÇÃO]])),1)} -> 60.93 | F7: 2 | G7: AUXILIAR DE LIMPEZA - 110 H | H7: 77 | I7: =tabUniformes[[#This Row],[Valor Reajustado]]*tabUniformes[[#This Row],[Qtde Anual de Peças]]*tabUniformes[[#This Row],[Qtde. funcionários]] -> 9383.22 | J7: =tabUniformes[[#This Row],[Qtde Anual de Peças]]*tabUniformes[[#This Row],[Qtde. funcionários]] -> 154 | K7: =IFERROR(tabUniformes[[#This Row],[Total]]/12/tabUniformes[[#This Row],[Qtde. funcionários]],0) -> 10.155 | L7: Cargo | M7: Qtde. funcionários | N7: Qtde. itens p/ ano | O7: Valor p/ ano | P7: Valor unitário mensal | Q7: Qtde. itens p/ ano | R7: Valor p/ ano | S7: Valor unitário mensal | T7: Qtde. itens p/ ano | U7: Valor p/ ano | V7: Valor unitário mensal | W7: Qtde. itens p/ ano | X7: Valor p/ ano | Y7: Valor unitário mensal | Z7: Qtde. itens p/ ano | AA7: Valor p/ ano | AB7: Valor unitário mensal | AC7: Qtde. itens p/ ano | AD7: Valor p/ ano | AE7: Valor unitário mensal | AF7: Qtde. itens p/ ano | AG7: Valor p/ ano | AH7: Valor unitário mensal | AI7: Qtde. itens p/ ano | AJ7: Valor p/ ano | AK7: Valor unitário mensal
A8: Camisa manga curta | B8: Malha - PV | D8: 40.85 | E8: {=tabUniformes[[#This Row],[Valor Inicial]]*IFERROR(PRODUCT(1+_xlfn._xlws.FILTER(tabIndices[PERCENTUAL],tabIndices[DATA DA PUBLICAÇÃO]>tabUniformes[[#This Row],[DATA PUBLICAÇÃO]])),1)} -> 40.85 | F8: 4 | G8: AUXILIAR DE LIMPEZA - 110 H | H8: 77 | I8: =tabUniformes[[#This Row],[Valor Reajustado]]*tabUniformes[[#This Row],[Qtde Anual de Peças]]*tabUniformes[[#This Row],[Qtde. funcionários]] -> 12581.8 | J8: =tabUniformes[[#This Row],[Qtde Anual de Peças]]*tabUniformes[[#This Row],[Qtde. funcionários]] -> 308 | K8: =IFERROR(tabUniformes[[#This Row],[Total]]/12/tabUniformes[[#This Row],[Qtde. funcionários]],0) -> 13.616667 | L8: AUXILIAR DE LIMPEZA - 110 H | M8: 77 | N8: 154 | O8: 9383.22 | P8: 10.155 | Q8: 308 | R8: 12581.8 | S8: 13.616667 | T8: 77 | U8: 7325.01 | V8: 7.9275 | W8: 77 | X8: 3849.23 | Y8: 4.1658333 | Z8: 154 | AA8: 14748.58 | AB8: 15.961667 | AC8: 1848 | AD8: 10145.52 | AE8: 10.98 | AL8: 2618 | AM8: 58033.36 | AN8: 62.806667
A9: Agasalho | B9: Moletom aberto | D9: 95.13 | E9: {=tabUniformes[[#This Row],[Valor Inicial]]*IFERROR(PRODUCT(1+_xlfn._xlws.FILTER(tabIndices[PERCENTUAL],tabIndices[DATA DA PUBLICAÇÃO]>tabUniformes[[#This Row],[DATA PUBLICAÇÃO]])),1)} -> 95.13 | F9: 1 | G9: AUXILIAR DE LIMPEZA - 110 H | H9: 77 | I9: =tabUniformes[[#This Row],[Valor Reajustado]]*tabUniformes[[#This Row],[Qtde Anual de Peças]]*tabUniformes[[#This Row],[Qtde. funcionários]] -> 7325.01 | J9: =tabUniformes[[#This Row],[Qtde Anual de Peças]]*tabUniformes[[#This Row],[Qtde. funcionários]] -> 77 | K9: =IFERROR(tabUniformes[[#This Row],[Total]]/12/tabUniformes[[#This Row],[Qtde. funcionários]],0) -> 7.9275 | L9: AUXILIAR DE LIMPEZA - 12 X 36 - DIURNO | M9: 2 | N9: 8 | O9: 487.44 | P9: 20.31 | Q9: 16 | R9: 653.6 | S9: 27.233333 | T9: 2 | U9: 190.26 | V9: 7.9275 | W9: 4 | X9: 199.96 | Y9: 8.3316667 | Z9: 4 | AA9: 383.08 | AB9: 15.961667 | AC9: 92 | AD9: 505.08 | AE9: 21.045 | AL9: 126 | AM9: 2419.42 | AN9: 100.80917
A10: Calçado | B10: Bota de Borracha | D10: 49.99 | E10: {=tabUniformes[[#This Row],[Valor Inicial]]*IFERROR(PRODUCT(1+_xlfn._xlws.FILTER(tabIndices[PERCENTUAL],tabIndices[DATA DA PUBLICAÇÃO]>tabUniformes[[#This Row],[DATA PUBLICAÇÃO]])),1)} -> 49.99 | F10: 1 | G10: AUXILIAR DE LIMPEZA - 110 H | H10: 77 | I10: =tabUniformes[[#This Row],[Valor Reajustado]]*tabUniformes[[#This Row],[Qtde Anual de Peças]]*tabUniformes[[#This Row],[Qtde. funcionários]] -> 3849.23 | J10: =tabUniformes[[#This Row],[Qtde Anual de Peças]]*tabUniformes[[#This Row],[Qtde. funcionários]] -> 77 | K10: =IFERROR(tabUniformes[[#This Row],[Total]]/12/tabUniformes[[#This Row],[Qtde. funcionários]],0) -> 4.1658333 | L10: AUXILIAR DE LIMPEZA - 12 X 36 - NOTURNO | M10: 2 | N10: 8 | O10: 487.44 | P10: 20.31 | Q10: 16 | R10: 653.6 | S10: 27.233333 | T10: 2 | U10: 190.26 | V10: 7.9275 | W10: 4 | X10: 199.96 | Y10: 8.3316667 | Z10: 4 | AA10: 383.08 | AB10: 15.961667 | AC10: 92 | AD10: 505.08 | AE10: 21.045 | AL10: 126 | AM10: 2419.42 | AN10: 100.80917
A11: Calçado | B11: Calçado Ocupacional de Uso Profissional Tipo Sapato | D11: 95.77 | E11: {=tabUniformes[[#This Row],[Valor Inicial]]*IFERROR(PRODUCT(1+_xlfn._xlws.FILTER(tabIndices[PERCENTUAL],tabIndices[DATA DA PUBLICAÇÃO]>tabUniformes[[#This Row],[DATA PUBLICAÇÃO]])),1)} -> 95.77 | F11: 2 | G11: AUXILIAR DE LIMPEZA - 110 H | H11: 77 | I11: =tabUniformes[[#This Row],[Valor Reajustado]]*tabUniformes[[#This Row],[Qtde Anual de Peças]]*tabUniformes[[#This Row],[Qtde. funcionários]] -> 14748.58 | J11: =tabUniformes[[#This Row],[Qtde Anual de Peças]]*tabUniformes[[#This Row],[Qtde. funcionários]] -> 154 | K11: =IFERROR(tabUniformes[[#This Row],[Total]]/12/tabUniformes[[#This Row],[Qtde. funcionários]],0) -> 15.961667 | L11: AUXILIAR DE LIMPEZA - 150 H | M11: 19 | N11: 76 | O11: 4630.68 | P11: 20.31 | Q11: 152 | R11: 6209.2 | S11: 27.233333 | T11: 19 | U11: 1807.47 | V11: 7.9275 | W11: 38 | X11: 1899.62 | Y11: 8.3316667 | Z11: 38 | AA11: 3639.26 | AB11: 15.961667 | AC11: 874 | AD11: 4798.26 | AE11: 21.045 | AL11: 1197 | AM11: 22984.49 | AN11: 100.80917
A12: Luvas | B12: Luva Nitrílica (Cano Médio) | D12: 5.49 | E12: {=tabUniformes[[#This Row],[Valor Inicial]]*IFERROR(PRODUCT(1+_xlfn._xlws.FILTER(tabIndices[PERCENTUAL],tabIndices[DATA DA PUBLICAÇÃO]>tabUniformes[[#This Row],[DATA PUBLICAÇÃO]])),1)} -> 5.49 | F12: 24 | G12: AUXILIAR DE LIMPEZA - 110 H | H12: 77 | I12: =tabUniformes[[#This Row],[Valor Reajustado]]*tabUniformes[[#This Row],[Qtde Anual de Peças]]*tabUniformes[[#This Row],[Qtde. funcionários]] -> 10145.52 | J12: =tabUniformes[[#This Row],[Qtde Anual de Peças]]*tabUniformes[[#This Row],[Qtde. funcionários]] -> 1848 | K12: =IFERROR(tabUniformes[[#This Row],[Total]]/12/tabUniformes[[#This Row],[Qtde. funcionários]],0) -> 10.98 | L12: AUXILIAR DE LIMPEZA - 220 H | M12: 254 | N12: 1016 | O12: 61904.88 | P12: 20.31 | Q12: 2032 | R12: 83007.2 | S12: 27.233333 | T12: 254 | U12: 24163.02 | V12: 7.9275 | W12: 508 | X12: 25394.92 | Y12: 8.3316667 | Z12: 508 | AA12: 48651.16 | AB12: 15.961667 | AC12: 11684 | AD12: 64145.16 | AE12: 21.045 | AL12: 16002 | AM12: 307266.34 | AN12: 100.80917
A13: Calça Comprida | B13: Brim, com cós de ajuste por amarração de cordão | D13: 60.93 | E13: {=tabUniformes[[#This Row],[Valor Inicial]]*IFERROR(PRODUCT(1+_xlfn._xlws.FILTER(tabIndices[PERCENTUAL],tabIndices[DATA DA PUBLICAÇÃO]>tabUniformes[[#This Row],[DATA PUBLICAÇÃO]])),1)} -> 60.93 | F13: 4 | G13: AUXILIAR DE LIMPEZA - 12 X 36 - DIURNO | H13: 2 | I13: =tabUniformes[[#This Row],[Valor Reajustado]]*tabUniformes[[#This Row],[Qtde Anual de Peças]]*tabUniformes[[#This Row],[Qtde. funcionários]] -> 487.44 | J13: =tabUniformes[[#This Row],[Qtde Anual de Peças]]*tabUniformes[[#This Row],[Qtde. funcionários]] -> 8 | K13: =IFERROR(tabUniformes[[#This Row],[Total]]/12/tabUniformes[[#This Row],[Qtde. funcionários]],0) -> 20.31 | L13: AUXILIAR DE LIMPEZA - 75 H | M13: 79 | N13: 158 | O13: 9626.94 | P13: 10.155 | Q13: 316 | R13: 12908.6 | S13: 13.616667 | T13: 79 | U13: 7515.27 | V13: 7.9275 | W13: 79 | X13: 3949.21 | Y13: 4.1658333 | Z13: 158 | AA13: 15131.66 | AB13: 15.961667 | AC13: 1896 | AD13: 10409.04 | AE13: 10.98 | AL13: 2686 | AM13: 59540.72 | AN13: 62.806667
A14: Camisa manga curta | B14: Malha - PV | D14: 40.85 | E14: {=tabUniformes[[#This Row],[Valor Inicial]]*IFERROR(PRODUCT(1+_xlfn._xlws.FILTER(tabIndices[PERCENTUAL],tabIndices[DATA DA PUBLICAÇÃO]>tabUniformes[[#This Row],[DATA PUBLICAÇÃO]])),1)} -> 40.85 | F14: 8 | G14: AUXILIAR DE LIMPEZA - 12 X 36 - DIURNO | H14: 2 | I14: =tabUniformes[[#This Row],[Valor Reajustado]]*tabUniformes[[#This Row],[Qtde Anual de Peças]]*tabUniformes[[#This Row],[Qtde. funcionários]] -> 653.6 | J14: =tabUniformes[[#This Row],[Qtde Anual de Peças]]*tabUniformes[[#This Row],[Qtde. funcionários]] -> 16 | K14: =IFERROR(tabUniformes[[#This Row],[Total]]/12/tabUniformes[[#This Row],[Qtde. funcionários]],0) -> 27.233333 | L14: LIMPADOR DE VIDROS - 220 H | M14: 4 | N14: 16 | O14: 974.88 | P14: 20.31 | Q14: 32 | R14: 1307.2 | S14: 27.233333 | T14: 4 | U14: 380.52 | V14: 7.9275 | AC14: 96 | AD14: 527.04 | AE14: 10.98 | AF14: 8 | AG14: 2240.32 | AH14: 46.673333 | AI14: 8 | AJ14: 61.36 | AK14: 1.2783333 | AL14: 164 | AM14: 5491.32 | AN14: 114.4025
A15: Agasalho | B15: Moletom aberto | D15: 95.13 | E15: {=tabUniformes[[#This Row],[Valor Inicial]]*IFERROR(PRODUCT(1+_xlfn._xlws.FILTER(tabIndices[PERCENTUAL],tabIndices[DATA DA PUBLICAÇÃO]>tabUniformes[[#This Row],[DATA PUBLICAÇÃO]])),1)} -> 95.13 | F15: 1 | G15: AUXILIAR DE LIMPEZA - 12 X 36 - DIURNO | H15: 2 | I15: =tabUniformes[[#This Row],[Valor Reajustado]]*tabUniformes[[#This Row],[Qtde Anual de Peças]]*tabUniformes[[#This Row],[Qtde. funcionários]] -> 190.26 | J15: =tabUniformes[[#This Row],[Qtde Anual de Peças]]*tabUniformes[[#This Row],[Qtde. funcionários]] -> 2 | K15: =IFERROR(tabUniformes[[#This Row],[Total]]/12/tabUniformes[[#This Row],[Qtde. funcionários]],0) -> 7.9275 | L15: Total Geral | N15: 1436 | O15: 87495.48 | P15: 121.86 | Q15: 2872 | R15: 117321.2 | S15: 163.4 | T15: 437 | U15: 41571.81 | V15: 55.4925 | W15: 710 | X15: 35492.9 | Y15: 41.658333 | Z15: 866 | AA15: 82936.82 | AB15: 95.77 | AC15: 16582 | AD15: 91035.18 | AE15: 117.12 | AF15: 8 | AG15: 2240.32 | AH15: 46.673333 | AI15: 8 | AJ15: 61.36 | AK15: 1.2783333 | AL15: 22919 | AM15: 458155.07 | AN15: 643.2525
A16: Calçado | B16: Bota de Borracha | D16: 49.99 | E16: {=tabUniformes[[#This Row],[Valor Inicial]]*IFERROR(PRODUCT(1+_xlfn._xlws.FILTER(tabIndices[PERCENTUAL],tabIndices[DATA DA PUBLICAÇÃO]>tabUniformes[[#This Row],[DATA PUBLICAÇÃO]])),1)} -> 49.99 | F16: 2 | G16: AUXILIAR DE LIMPEZA - 12 X 36 - DIURNO | H16: 2 | I16: =tabUniformes[[#This Row],[Valor Reajustado]]*tabUniformes[[#This Row],[Qtde Anual de Peças]]*tabUniformes[[#This Row],[Qtde. funcionários]] -> 199.96 | J16: =tabUniformes[[#This Row],[Qtde Anual de Peças]]*tabUniformes[[#This Row],[Qtde. funcionários]] -> 4 | K16: =IFERROR(tabUniformes[[#This Row],[Total]]/12/tabUniformes[[#This Row],[Qtde. funcionários]],0) -> 8.3316667
A17: Calçado | B17: Calçado Ocupacional de Uso Profissional Tipo Sapato | D17: 95.77 | E17: {=tabUniformes[[#This Row],[Valor Inicial]]*IFERROR(PRODUCT(1+_xlfn._xlws.FILTER(tabIndices[PERCENTUAL],tabIndices[DATA DA PUBLICAÇÃO]>tabUniformes[[#This Row],[DATA PUBLICAÇÃO]])),1)} -> 95.77 | F17: 2 | G17: AUXILIAR DE LIMPEZA - 12 X 36 - DIURNO | H17: 2 | I17: =tabUniformes[[#This Row],[Valor Reajustado]]*tabUniformes[[#This Row],[Qtde Anual de Peças]]*tabUniformes[[#This Row],[Qtde. funcionários]] -> 383.08 | J17: =tabUniformes[[#This Row],[Qtde Anual de Peças]]*tabUniformes[[#This Row],[Qtde. funcionários]] -> 4 | K17: =IFERROR(tabUniformes[[#This Row],[Total]]/12/tabUniformes[[#This Row],[Qtde. funcionários]],0) -> 15.961667
A18: Luvas | B18: Luva Nitrílica (Cano Médio) | D18: 5.49 | E18: {=tabUniformes[[#This Row],[Valor Inicial]]*IFERROR(PRODUCT(1+_xlfn._xlws.FILTER(tabIndices[PERCENTUAL],tabIndices[DATA DA PUBLICAÇÃO]>tabUniformes[[#This Row],[DATA PUBLICAÇÃO]])),1)} -> 5.49 | F18: 46 | G18: AUXILIAR DE LIMPEZA - 12 X 36 - DIURNO | H18: 2 | I18: =tabUniformes[[#This Row],[Valor Reajustado]]*tabUniformes[[#This Row],[Qtde Anual de Peças]]*tabUniformes[[#This Row],[Qtde. funcionários]] -> 505.08 | J18: =tabUniformes[[#This Row],[Qtde Anual de Peças]]*tabUniformes[[#This Row],[Qtde. funcionários]] -> 92 | K18: =IFERROR(tabUniformes[[#This Row],[Total]]/12/tabUniformes[[#This Row],[Qtde. funcionários]],0) -> 21.045
A19: Calça Comprida | B19: Brim, com cós de ajuste por amarração de cordão | D19: 60.93 | E19: {=tabUniformes[[#This Row],[Valor Inicial]]*IFERROR(PRODUCT(1+_xlfn._xlws.FILTER(tabIndices[PERCENTUAL],tabIndices[DATA DA PUBLICAÇÃO]>tabUniformes[[#This Row],[DATA PUBLICAÇÃO]])),1)} -> 60.93 | F19: 4 | G19: AUXILIAR DE LIMPEZA - 12 X 36 - NOTURNO | H19: 2 | I19: =tabUniformes[[#This Row],[Valor Reajustado]]*tabUniformes[[#This Row],[Qtde Anual de Peças]]*tabUniformes[[#This Row],[Qtde. funcionários]] -> 487.44 | J19: =tabUniformes[[#This Row],[Qtde Anual de Peças]]*tabUniformes[[#This Row],[Qtde. funcionários]] -> 8 | K19: =IFERROR(tabUniformes[[#This Row],[Total]]/12/tabUniformes[[#This Row],[Qtde. funcionários]],0) -> 20.31
A20: Camisa manga curta | B20: Malha - PV | D20: 40.85 | E20: {=tabUniformes[[#This Row],[Valor Inicial]]*IFERROR(PRODUCT(1+_xlfn._xlws.FILTER(tabIndices[PERCENTUAL],tabIndices[DATA DA PUBLICAÇÃO]>tabUniformes[[#This Row],[DATA PUBLICAÇÃO]])),1)} -> 40.85 | F20: 8 | G20: AUXILIAR DE LIMPEZA - 12 X 36 - NOTURNO | H20: 2 | I20: =tabUniformes[[#This Row],[Valor Reajustado]]*tabUniformes[[#This Row],[Qtde Anual de Peças]]*tabUniformes[[#This Row],[Qtde. funcionários]] -> 653.6 | J20: =tabUniformes[[#This Row],[Qtde Anual de Peças]]*tabUniformes[[#This Row],[Qtde. funcionários]] -> 16 | K20: =IFERROR(tabUniformes[[#This Row],[Total]]/12/tabUniformes[[#This Row],[Qtde. funcionários]],0) -> 27.233333
A21: Agasalho | B21: Moletom aberto | D21: 95.13 | E21: {=tabUniformes[[#This Row],[Valor Inicial]]*IFERROR(PRODUCT(1+_xlfn._xlws.FILTER(tabIndices[PERCENTUAL],tabIndices[DATA DA PUBLICAÇÃO]>tabUniformes[[#This Row],[DATA PUBLICAÇÃO]])),1)} -> 95.13 | F21: 1 | G21: AUXILIAR DE LIMPEZA - 12 X 36 - NOTURNO | H21: 2 | I21: =tabUniformes[[#This Row],[Valor Reajustado]]*tabUniformes[[#This Row],[Qtde Anual de Peças]]*tabUniformes[[#This Row],[Qtde. funcionários]] -> 190.26 | J21: =tabUniformes[[#This Row],[Qtde Anual de Peças]]*tabUniformes[[#This Row],[Qtde. funcionários]] -> 2 | K21: =IFERROR(tabUniformes[[#This Row],[Total]]/12/tabUniformes[[#This Row],[Qtde. funcionários]],0) -> 7.9275
A22: Calçado | B22: Bota de Borracha | D22: 49.99 | E22: {=tabUniformes[[#This Row],[Valor Inicial]]*IFERROR(PRODUCT(1+_xlfn._xlws.FILTER(tabIndices[PERCENTUAL],tabIndices[DATA DA PUBLICAÇÃO]>tabUniformes[[#This Row],[DATA PUBLICAÇÃO]])),1)} -> 49.99 | F22: 2 | G22: AUXILIAR DE LIMPEZA - 12 X 36 - NOTURNO | H22: 2 | I22: =tabUniformes[[#This Row],[Valor Reajustado]]*tabUniformes[[#This Row],[Qtde Anual de Peças]]*tabUniformes[[#This Row],[Qtde. funcionários]] -> 199.96 | J22: =tabUniformes[[#This Row],[Qtde Anual de Peças]]*tabUniformes[[#This Row],[Qtde. funcionários]] -> 4 | K22: =IFERROR(tabUniformes[[#This Row],[Total]]/12/tabUniformes[[#This Row],[Qtde. funcionários]],0) -> 8.3316667
A23: Calçado | B23: Calçado Ocupacional de Uso Profissional Tipo Sapato | D23: 95.77 | E23: {=tabUniformes[[#This Row],[Valor Inicial]]*IFERROR(PRODUCT(1+_xlfn._xlws.FILTER(tabIndices[PERCENTUAL],tabIndices[DATA DA PUBLICAÇÃO]>tabUniformes[[#This Row],[DATA PUBLICAÇÃO]])),1)} -> 95.77 | F23: 2 | G23: AUXILIAR DE LIMPEZA - 12 X 36 - NOTURNO | H23: 2 | I23: =tabUniformes[[#This Row],[Valor Reajustado]]*tabUniformes[[#This Row],[Qtde Anual de Peças]]*tabUniformes[[#This Row],[Qtde. funcionários]] -> 383.08 | J23: =tabUniformes[[#This Row],[Qtde Anual de Peças]]*tabUniformes[[#This Row],[Qtde. funcionários]] -> 4 | K23: =IFERROR(tabUniformes[[#This Row],[Total]]/12/tabUniformes[[#This Row],[Qtde. funcionários]],0) -> 15.961667
A24: Luvas | B24: Luva Nitrílica (Cano Médio) | D24: 5.49 | E24: {=tabUniformes[[#This Row],[Valor Inicial]]*IFERROR(PRODUCT(1+_xlfn._xlws.FILTER(tabIndices[PERCENTUAL],tabIndices[DATA DA PUBLICAÇÃO]>tabUniformes[[#This Row],[DATA PUBLICAÇÃO]])),1)} -> 5.49 | F24: 46 | G24: AUXILIAR DE LIMPEZA - 12 X 36 - NOTURNO | H24: 2 | I24: =tabUniformes[[#This Row],[Valor Reajustado]]*tabUniformes[[#This Row],[Qtde Anual de Peças]]*tabUniformes[[#This Row],[Qtde. funcionários]] -> 505.08 | J24: =tabUniformes[[#This Row],[Qtde Anual de Peças]]*tabUniformes[[#This Row],[Qtde. funcionários]] -> 92 | K24: =IFERROR(tabUniformes[[#This Row],[Total]]/12/tabUniformes[[#This Row],[Qtde. funcionários]],0) -> 21.045
A25: Calça Comprida | B25: Brim, com cós de ajuste por amarração de cordão | D25: 60.93 | E25: {=tabUniformes[[#This Row],[Valor Inicial]]*IFERROR(PRODUCT(1+_xlfn._xlws.FILTER(tabIndices[PERCENTUAL],tabIndices[DATA DA PUBLICAÇÃO]>tabUniformes[[#This Row],[DATA PUBLICAÇÃO]])),1)} -> 60.93 | F25: 4 | G25: AUXILIAR DE LIMPEZA - 150 H | H25: 19 | I25: =tabUniformes[[#This Row],[Valor Reajustado]]*tabUniformes[[#This Row],[Qtde Anual de Peças]]*tabUniformes[[#This Row],[Qtde. funcionários]] -> 4630.68 | J25: =tabUniformes[[#This Row],[Qtde Anual de Peças]]*tabUniformes[[#This Row],[Qtde. funcionários]] -> 76 | K25: =IFERROR(tabUniformes[[#This Row],[Total]]/12/tabUniformes[[#This Row],[Qtde. funcionários]],0) -> 20.31
A26: Camisa manga curta | B26: Malha - PV | D26: 40.85 | E26: {=tabUniformes[[#This Row],[Valor Inicial]]*IFERROR(PRODUCT(1+_xlfn._xlws.FILTER(tabIndices[PERCENTUAL],tabIndices[DATA DA PUBLICAÇÃO]>tabUniformes[[#This Row],[DATA PUBLICAÇÃO]])),1)} -> 40.85 | F26: 8 | G26: AUXILIAR DE LIMPEZA - 150 H | H26: 19 | I26: =tabUniformes[[#This Row],[Valor Reajustado]]*tabUniformes[[#This Row],[Qtde Anual de Peças]]*tabUniformes[[#This Row],[Qtde. funcionários]] -> 6209.2 | J26: =tabUniformes[[#This Row],[Qtde Anual de Peças]]*tabUniformes[[#This Row],[Qtde. funcionários]] -> 152 | K26: =IFERROR(tabUniformes[[#This Row],[Total]]/12/tabUniformes[[#This Row],[Qtde. funcionários]],0) -> 27.233333
A27: Agasalho | B27: Moletom aberto | D27: 95.13 | E27: {=tabUniformes[[#This Row],[Valor Inicial]]*IFERROR(PRODUCT(1+_xlfn._xlws.FILTER(tabIndices[PERCENTUAL],tabIndices[DATA DA PUBLICAÇÃO]>tabUniformes[[#This Row],[DATA PUBLICAÇÃO]])),1)} -> 95.13 | F27: 1 | G27: AUXILIAR DE LIMPEZA - 150 H | H27: 19 | I27: =tabUniformes[[#This Row],[Valor Reajustado]]*tabUniformes[[#This Row],[Qtde Anual de Peças]]*tabUniformes[[#This Row],[Qtde. funcionários]] -> 1807.47 | J27: =tabUniformes[[#This Row],[Qtde Anual de Peças]]*tabUniformes[[#This Row],[Qtde. funcionários]] -> 19 | K27: =IFERROR(tabUniformes[[#This Row],[Total]]/12/tabUniformes[[#This Row],[Qtde. funcionários]],0) -> 7.9275
... A48: Óculos | B48: Óculos de Segurança de Sobreposição Incolor Ou Fumê | D48: 7.67 | E48: {=tabUniformes[[#This Row],[Valor Inicial]]*IFERROR(PRODUCT(1+_xlfn._xlws.FILTER(tabIndices[PERCENTUAL],tabIndices[DATA DA PUBLICAÇÃO]>tabUniformes[[#This Row],[DATA PUBLICAÇÃO]])),1)} -> 7.67 | F48: 2 | G48: LIMPADOR DE VIDROS - 220 H | H48: 4 | I48: =tabUniformes[[#This Row],[Valor Reajustado]]*tabUniformes[[#This Row],[Qtde Anual de Peças]]*tabUniformes[[#This Row],[Qtde. funcionários]] -> 61.36 | J48: =tabUniformes[[#This Row],[Qtde Anual de Peças]]*tabUniformes[[#This Row],[Qtde. funcionários]] -> 8 | K48: =IFERROR(tabUniformes[[#This Row],[Total]]/12/tabUniformes[[#This Row],[Qtde. funcionários]],0) -> 1.2783333

Sheet INSUMOS AUX. DE LIMPEZA
A1: APENSO IX - Quantitativo estimado e preços de referência de Materiais de Consumo APENSO X – Quantitativo estimado e preços de referência de Produtos de Limpeza APENSO XI- Quantitativo estimado e preços de Máquinas e Equipamentos – Depreciação Mensal
A3: ORDEM | B3: QUANT. ITEM | C3: UNIDADE | D3: CARGA HORÁRIA INICIAL | E3: DESCRIÇÃO | F3: TIPO | G3: PERIODICIDADE DE FORNECIMENTO | H3: TA / APOST | I3: DATA PUBLICAÇÃO | J3: PREÇO INICIAL - (R$) | K3: PREÇO TOTAL - (R$) | L3: PREÇO UNIDADE - (R$) | M3: VALOR - DEPRECIAÇÃO MENSAL - UNIDADE (R$) | N3: VALOR DEPRECIAÇÃO MENSAL - TOTAL (R$) | O3: VALOR - DEPRECIAÇÃO ANUAL - TOTAL (R$) | P3: VALOR UNITÁRIO P/ HORA (R$)
A4: =ROW()-3 -> 1 | B4: 4 | C4: UNIDADE | D4: =79*75+77*110+19*150+(254+2+2)*220 -> 74005 | E4: Aspirador de pó e água industrial, capacidade mínima de 70 Litros, potência mínima de 2400w, e tensão de 127v ou bivolt. Marcas Nagano ou Wap ou similar. | F4: Equipamento | G4: CONTRATUAL | J4: 2465.41 | K4: =tabLimpGeral[[#This Row],[PREÇO UNIDADE - (R$)]]*tabLimpGeral[[#This Row],[QUANT. ITEM]] -> 9861.64 | L4: {=tabLimpGeral[[#This Row],[PREÇO INICIAL - (R$)]]*IFERROR(PRODUCT(1+_xlfn._xlws.FILTER(tabIndices[PERCENTUAL],tabIndices[DATA DA PUBLICAÇÃO]>tabLimpGeral[[#This Row],[DATA PUBLICAÇÃO]])),1)} -> 2465.41 | M4: =IF(tabLimpGeral[[#This Row],[TIPO]]="Equipamento",tabLimpGeral[[#This Row],[PREÇO UNIDADE - (R$)]]/60,0) -> 41.090167 | N4: =tabLimpGeral[[#This Row],[VALOR - DEPRECIAÇÃO MENSAL - UNIDADE (R$)]]*tabLimpGeral[[#This Row],[QUANT. ITEM]] -> 164.36067 | O4: =tabLimpGeral[[#This Row],[VALOR DEPRECIAÇÃO MENSAL - TOTAL (R$)]]*12 -> 1972.328 | P4: =IFERROR(IF(tabLimpGeral[[#This Row],[TIPO]]="Equipamento",tabLimpGeral[[#This Row],[VALOR - DEPRECIAÇÃO ANUAL - TOTAL (R$) ]]/12/tabLimpGeral[[#This Row],[CARGA HORÁRIA INICIAL]],tabLimpGeral[[#This Row],[PREÇO TOTAL - (R$)]]/12/tabLimpGeral[[#This Row],[CARGA HORÁRIA INICIAL]]),0) -> 0.00222094
A5: =ROW()-3 -> 2 | B5: 37 | C5: UNIDADE | D5: =79*75+77*110+19*150+(254+2+2)*220 -> 74005 | E5: Aspirador de pó e água, 1800w, 20L, 127V. Eletrolux ou similar. | F5: Equipamento | G5: CONTRATUAL | J5: 572.93 | K5: =tabLimpGeral[[#This Row],[PREÇO UNIDADE - (R$)]]*tabLimpGeral[[#This Row],[QUANT. ITEM]] -> 21198.41 | L5: {=tabLimpGeral[[#This Row],[PREÇO INICIAL - (R$)]]*IFERROR(PRODUCT(1+_xlfn._xlws.FILTER(tabIndices[PERCENTUAL],tabIndices[DATA DA PUBLICAÇÃO]>tabLimpGeral[[#This Row],[DATA PUBLICAÇÃO]])),1)} -> 572.93 | M5: =IF(tabLimpGeral[[#This Row],[TIPO]]="Equipamento",tabLimpGeral[[#This Row],[PREÇO UNIDADE - (R$)]]/60,0) -> 9.5488333 | N5: =tabLimpGeral[[#This Row],[VALOR - DEPRECIAÇÃO MENSAL - UNIDADE (R$)]]*tabLimpGeral[[#This Row],[QUANT. ITEM]] -> 353.30683 | O5: =tabLimpGeral[[#This Row],[VALOR DEPRECIAÇÃO MENSAL - TOTAL (R$)]]*12 -> 4239.682 | P5: =IFERROR(IF(tabLimpGeral[[#This Row],[TIPO]]="Equipamento",tabLimpGeral[[#This Row],[VALOR - DEPRECIAÇÃO ANUAL - TOTAL (R$) ]]/12/tabLimpGeral[[#This Row],[CARGA HORÁRIA INICIAL]],tabLimpGeral[[#This Row],[PREÇO TOTAL - (R$)]]/12/tabLimpGeral[[#This Row],[CARGA HORÁRIA INICIAL]]),0) -> 0.0047740941
A6: =ROW()-3 -> 3 | B6: 12 | C6: UNIDADE | D6: =79*75+77*110+19*150+(254+2+2)*220 -> 74005 | E6: Carrinho funcional para limpeza, com saco para 90 litros. Dimensões mínimas de 120x46x100 cm(CxLxA). | F6: Equipamento | G6: CONTRATUAL | J6: 851.8 | K6: =tabLimpGeral[[#This Row],[PREÇO UNIDADE - (R$)]]*tabLimpGeral[[#This Row],[QUANT. ITEM]] -> 10221.6 | L6: {=tabLimpGeral[[#This Row],[PREÇO INICIAL - (R$)]]*IFERROR(PRODUCT(1+_xlfn._xlws.FILTER(tabIndices[PERCENTUAL],tabIndices[DATA DA PUBLICAÇÃO]>tabLimpGeral[[#This Row],[DATA PUBLICAÇÃO]])),1)} -> 851.8 | M6: =IF(tabLimpGeral[[#This Row],[TIPO]]="Equipamento",tabLimpGeral[[#This Row],[PREÇO UNIDADE - (R$)]]/60,0) -> 14.196667 | N6: =tabLimpGeral[[#This Row],[VALOR - DEPRECIAÇÃO MENSAL - UNIDADE (R$)]]*tabLimpGeral[[#This Row],[QUANT. ITEM]] -> 170.36 | O6: =tabLimpGeral[[#This Row],[VALOR DEPRECIAÇÃO MENSAL - TOTAL (R$)]]*12 -> 2044.32 | P6: =IFERROR(IF(tabLimpGeral[[#This Row],[TIPO]]="Equipamento",tabLimpGeral[[#This Row],[VALOR - DEPRECIAÇÃO ANUAL - TOTAL (R$) ]]/12/tabLimpGeral[[#This Row],[CARGA HORÁRIA INICIAL]],tabLimpGeral[[#This Row],[PREÇO TOTAL - (R$)]]/12/tabLimpGeral[[#This Row],[CARGA HORÁRIA INICIAL]]),0) -> 0.0023020066
A7: =ROW()-3 -> 4 | B7: 300 | C7: UNIDADE | D7: =79*75+77*110+19*150+(254+2+2)*220 -> 74005 | E7: Dispensador de álcool - igual ao dispensador de sabonete líquido; material: plástico ABS; capacudade: 800ML/29CM(ALT.)X12CM(LARG.)X11CM(PROF.); complementação da especificação do item de material: saboneteira para refil 800ml; especificações: saboneteira em plástico ABS. Dimensões: 29cm de altura X 12cm de largura X 11cm de profundidade, com tolerância de 20% nas medidas. Possui fechadura e acompanha chave em plástico ABS, bem como um kIT para fixação na parede contendo buchas e parafusos para refil de sabonete líquido de 800ml (sachê) | F7: Equipamento | G7: CONTRATUAL | J7: 38.97 | K7: =tabLimpGeral[[#This Row],[PREÇO UNIDADE - (R$)]]*tabLimpGeral[[#This Row],[QUANT. ITEM]] -> 11691 | L7: {=tabLimpGeral[[#This Row],[PREÇO INICIAL - (R$)]]*IFERROR(PRODUCT(1+_xlfn._xlws.FILTER(tabIndices[PERCENTUAL],tabIndices[DATA DA PUBLICAÇÃO]>tabLimpGeral[[#This Row],[DATA PUBLICAÇÃO]])),1)} -> 38.97 | M7: =IF(tabLimpGeral[[#This Row],[TIPO]]="Equipamento",tabLimpGeral[[#This Row],[PREÇO UNIDADE - (R$)]]/60,0) -> 0.6495 | N7: =tabLimpGeral[[#This Row],[VALOR - DEPRECIAÇÃO MENSAL - UNIDADE (R$)]]*tabLimpGeral[[#This Row],[QUANT. ITEM]] -> 194.85 | O7: =tabLimpGeral[[#This Row],[VALOR DEPRECIAÇÃO MENSAL - TOTAL (R$)]]*12 -> 2338.2 | P7: =IFERROR(IF(tabLimpGeral[[#This Row],[TIPO]]="Equipamento",tabLimpGeral[[#This Row],[VALOR - DEPRECIAÇÃO ANUAL - TOTAL (R$) ]]/12/tabLimpGeral[[#This Row],[CARGA HORÁRIA INICIAL]],tabLimpGeral[[#This Row],[PREÇO TOTAL - (R$)]]/12/tabLimpGeral[[#This Row],[CARGA HORÁRIA INICIAL]]),0) -> 0.0026329302
A8: =ROW()-3 -> 5 | B8: 2000 | C8: UNIDADE | D8: =79*75+77*110+19*150+(254+2+2)*220 -> 74005 | E8: Dispensador de papel-toalha/Porta papel-toalha - tipo: de parede; apresentação do papel: rolo 200 metros; matéria-prima: plástico abs; com mecanismo para liberar o papel em tamanhos pré-determinados, sem alavancas ou botões ou outro modelo compatível com o insumo fornecido. | F8: Equipamento | G8: CONTRATUAL | J8: 347.33 | K8: =tabLimpGeral[[#This Row],[PREÇO UNIDADE - (R$)]]*tabLimpGeral[[#This Row],[QUANT. ITEM]] -> 694660 | L8: {=tabLimpGeral[[#This Row],[PREÇO INICIAL - (R$)]]*IFERROR(PRODUCT(1+_xlfn._xlws.FILTER(tabIndices[PERCENTUAL],tabIndices[DATA DA PUBLICAÇÃO]>tabLimpGeral[[#This Row],[DATA PUBLICAÇÃO]])),1)} -> 347.33 | M8: =IF(tabLimpGeral[[#This Row],[TIPO]]="Equipamento",tabLimpGeral[[#This Row],[PREÇO UNIDADE - (R$)]]/60,0) -> 5.7888333 | N8: =tabLimpGeral[[#This Row],[VALOR - DEPRECIAÇÃO MENSAL - UNIDADE (R$)]]*tabLimpGeral[[#This Row],[QUANT. ITEM]] -> 11577.667 | O8: =tabLimpGeral[[#This Row],[VALOR DEPRECIAÇÃO MENSAL - TOTAL (R$)]]*12 -> 138932 | P8: =IFERROR(IF(tabLimpGeral[[#This Row],[TIPO]]="Equipamento",tabLimpGeral[[#This Row],[VALOR - DEPRECIAÇÃO ANUAL - TOTAL (R$) ]]/12/tabLimpGeral[[#This Row],[CARGA HORÁRIA INICIAL]],tabLimpGeral[[#This Row],[PREÇO TOTAL - (R$)]]/12/tabLimpGeral[[#This Row],[CARGA HORÁRIA INICIAL]]),0) -> 0.15644438
A9: =ROW()-3 -> 6 | B9: 2000 | C9: UNIDADE | D9: =79*75+77*110+19*150+(254+2+2)*220 -> 74005 | E9: Dispensador de sabonete líquido - material: plásticoABS; capacidade: 800ML/29CM(ALT.)X12CM(LARG.)X11CM(PROF.); complementação da especificação do item de material: saboneteira para refil 800ml especificações: saboneteira em plástico ABS. Dimensões: 29cm de altura X 12cm de largura X 11cm de profundidade, com tolerância de 20% nas medidas. Possui fechadura e acompanha chave em plástico ABS, bem como um KIT para fixação na parede contendo buchas e parafusos para refil de sabonete líquido de 800 ml (sachê). | F9: Equipamento | G9: CONTRATUAL | J9: 36.22 | K9: =tabLimpGeral[[#This Row],[PREÇO UNIDADE - (R$)]]*tabLimpGeral[[#This Row],[QUANT. ITEM]] -> 72440 | L9: {=tabLimpGeral[[#This Row],[PREÇO INICIAL - (R$)]]*IFERROR(PRODUCT(1+_xlfn._xlws.FILTER(tabIndices[PERCENTUAL],tabIndices[DATA DA PUBLICAÇÃO]>tabLimpGeral[[#This Row],[DATA PUBLICAÇÃO]])),1)} -> 36.22 | M9: =IF(tabLimpGeral[[#This Row],[TIPO]]="Equipamento",tabLimpGeral[[#This Row],[PREÇO UNIDADE - (R$)]]/60,0) -> 0.60366667 | N9: =tabLimpGeral[[#This Row],[VALOR - DEPRECIAÇÃO MENSAL - UNIDADE (R$)]]*tabLimpGeral[[#This Row],[QUANT. ITEM]] -> 1207.3333 | O9: =tabLimpGeral[[#This Row],[VALOR DEPRECIAÇÃO MENSAL - TOTAL (R$)]]*12 -> 14488 | P9: =IFERROR(IF(tabLimpGeral[[#This Row],[TIPO]]="Equipamento",tabLimpGeral[[#This Row],[VALOR - DEPRECIAÇÃO ANUAL - TOTAL (R$) ]]/12/tabLimpGeral[[#This Row],[CARGA HORÁRIA INICIAL]],tabLimpGeral[[#This Row],[PREÇO TOTAL - (R$)]]/12/tabLimpGeral[[#This Row],[CARGA HORÁRIA INICIAL]]),0) -> 0.016314213
A10: =ROW()-3 -> 7 | B10: 60 | C10: UNIDADE | D10: =79*75+77*110+19*150+(254+2+2)*220 -> 74005 | E10: Enceradeira industrial 350mm, com capacidade operacional de 1.500m², cabo de aço com pintura eletrostática, escova de 350mm, rotação de 175 rpm, bivolt - caixa de ligação de plástico termorresistente, alavanca de acionamento feita de plástico ABS. Referência: Cleaner (site sales.com.br) | F10: Equipamento | G10: CONTRATUAL | J10: 2577.9 | K10: =tabLimpGeral[[#This Row],[PREÇO UNIDADE - (R$)]]*tabLimpGeral[[#This Row],[QUANT. ITEM]] -> 154674 | L10: {=tabLimpGeral[[#This Row],[PREÇO INICIAL - (R$)]]*IFERROR(PRODUCT(1+_xlfn._xlws.FILTER(tabIndices[PERCENTUAL],tabIndices[DATA DA PUBLICAÇÃO]>tabLimpGeral[[#This Row],[DATA PUBLICAÇÃO]])),1)} -> 2577.9 | M10: =IF(tabLimpGeral[[#This Row],[TIPO]]="Equipamento",tabLimpGeral[[#This Row],[PREÇO UNIDADE - (R$)]]/60,0) -> 42.965 | N10: =tabLimpGeral[[#This Row],[VALOR - DEPRECIAÇÃO MENSAL - UNIDADE (R$)]]*tabLimpGeral[[#This Row],[QUANT. ITEM]] -> 2577.9 | O10: =tabLimpGeral[[#This Row],[VALOR DEPRECIAÇÃO MENSAL - TOTAL (R$)]]*12 -> 30934.8 | P10: =IFERROR(IF(tabLimpGeral[[#This Row],[TIPO]]="Equipamento",tabLimpGeral[[#This Row],[VALOR - DEPRECIAÇÃO ANUAL - TOTAL (R$) ]]/12/tabLimpGeral[[#This Row],[CARGA HORÁRIA INICIAL]],tabLimpGeral[[#This Row],[PREÇO TOTAL - (R$)]]/12/tabLimpGeral[[#This Row],[CARGA HORÁRIA INICIAL]]),0) -> 0.034834133
A11: =ROW()-3 -> 8 | B11: 21 | C11: UNIDADE | D11: =79*75+77*110+19*150+(254+2+2)*220 -> 74005 | E11: Jateadora industrial, potência mínima de 3.300 W, 220V, pressão nominal, mínima, de trabalho ( Ib/pol²)(bar) de 1.450(100). Marcas Bosch ou Wap. | F11: Equipamento | G11: CONTRATUAL | J11: 4526.68 | K11: =tabLimpGeral[[#This Row],[PREÇO UNIDADE - (R$)]]*tabLimpGeral[[#This Row],[QUANT. ITEM]] -> 95060.28 | L11: {=tabLimpGeral[[#This Row],[PREÇO INICIAL - (R$)]]*IFERROR(PRODUCT(1+_xlfn._xlws.FILTER(tabIndices[PERCENTUAL],tabIndices[DATA DA PUBLICAÇÃO]>tabLimpGeral[[#This Row],[DATA PUBLICAÇÃO]])),1)} -> 4526.68 | M11: =IF(tabLimpGeral[[#This Row],[TIPO]]="Equipamento",tabLimpGeral[[#This Row],[PREÇO UNIDADE - (R$)]]/60,0) -> 75.444667 | N11: =tabLimpGeral[[#This Row],[VALOR - DEPRECIAÇÃO MENSAL - UNIDADE (R$)]]*tabLimpGeral[[#This Row],[QUANT. ITEM]] -> 1584.338 | O11: =tabLimpGeral[[#This Row],[VALOR DEPRECIAÇÃO MENSAL - TOTAL (R$)]]*12 -> 19012.056 | P11: =IFERROR(IF(tabLimpGeral[[#This Row],[TIPO]]="Equipamento",tabLimpGeral[[#This Row],[VALOR - DEPRECIAÇÃO ANUAL - TOTAL (R$) ]]/12/tabLimpGeral[[#This Row],[CARGA HORÁRIA INICIAL]],tabLimpGeral[[#This Row],[PREÇO TOTAL - (R$)]]/12/tabLimpGeral[[#This Row],[CARGA HORÁRIA INICIAL]]),0) -> 0.021408526
A12: =ROW()-3 -> 9 | B12: 376 | C12: UNIDADE | D12: =79*75+77*110+19*150+(254+2+2)*220 -> 74005 | E12: Kit limpa vidros com extensão telescópica em alumínio, com 3 estágios (até 9 metros) composto de lavador, cabo de fixação, guias removíveis, pulverizador e raspador. Marca Bralimpia ou similar. | F12: Equipamento | G12: CONTRATUAL | J12: 373.3 | K12: =tabLimpGeral[[#This Row],[PREÇO UNIDADE - (R$)]]*tabLimpGeral[[#This Row],[QUANT. ITEM]] -> 140360.8 | L12: {=tabLimpGeral[[#This Row],[PREÇO INICIAL - (R$)]]*IFERROR(PRODUCT(1+_xlfn._xlws.FILTER(tabIndices[PERCENTUAL],tabIndices[DATA DA PUBLICAÇÃO]>tabLimpGeral[[#This Row],[DATA PUBLICAÇÃO]])),1)} -> 373.3 | M12: =IF(tabLimpGeral[[#This Row],[TIPO]]="Equipamento",tabLimpGeral[[#This Row],[PREÇO UNIDADE - (R$)]]/60,0) -> 6.2216667 | N12: =tabLimpGeral[[#This Row],[VALOR - DEPRECIAÇÃO MENSAL - UNIDADE (R$)]]*tabLimpGeral[[#This Row],[QUANT. ITEM]] -> 2339.3467 | O12: =tabLimpGeral[[#This Row],[VALOR DEPRECIAÇÃO MENSAL - TOTAL (R$)]]*12 -> 28072.16 | P12: =IFERROR(IF(tabLimpGeral[[#This Row],[TIPO]]="Equipamento",tabLimpGeral[[#This Row],[VALOR - DEPRECIAÇÃO ANUAL - TOTAL (R$) ]]/12/tabLimpGeral[[#This Row],[CARGA HORÁRIA INICIAL]],tabLimpGeral[[#This Row],[PREÇO TOTAL - (R$)]]/12/tabLimpGeral[[#This Row],[CARGA HORÁRIA INICIAL]]),0) -> 0.031610657
A13: =ROW()-3 -> 10 | B13: 4 | C13: UNIDADE | D13: =79*75+77*110+19*150+(254+2+2)*220 -> 74005 | E13: Lavadora e secadora de pisos, 127v/220v, potência mínima de 700 w, portátil. Karcher ou similar. | F13: Equipamento | G13: CONTRATUAL | J13: 3949.99 | K13: =tabLimpGeral[[#This Row],[PREÇO UNIDADE - (R$)]]*tabLimpGeral[[#This Row],[QUANT. ITEM]] -> 15799.96 | L13: {=tabLimpGeral[[#This Row],[PREÇO INICIAL - (R$)]]*IFERROR(PRODUCT(1+_xlfn._xlws.FILTER(tabIndices[PERCENTUAL],tabIndices[DATA DA PUBLICAÇÃO]>tabLimpGeral[[#This Row],[DATA PUBLICAÇÃO]])),1)} -> 3949.99 | M13: =IF(tabLimpGeral[[#This Row],[TIPO]]="Equipamento",tabLimpGeral[[#This Row],[PREÇO UNIDADE - (R$)]]/60,0) -> 65.833167 | N13: =tabLimpGeral[[#This Row],[VALOR - DEPRECIAÇÃO MENSAL - UNIDADE (R$)]]*tabLimpGeral[[#This Row],[QUANT. ITEM]] -> 263.33267 | O13: =tabLimpGeral[[#This Row],[VALOR DEPRECIAÇÃO MENSAL - TOTAL (R$)]]*12 -> 3159.992 | P13: =IFERROR(IF(tabLimpGeral[[#This Row],[TIPO]]="Equipamento",tabLimpGeral[[#This Row],[VALOR - DEPRECIAÇÃO ANUAL - TOTAL (R$) ]]/12/tabLimpGeral[[#This Row],[CARGA HORÁRIA INICIAL]],tabLimpGeral[[#This Row],[PREÇO TOTAL - (R$)]]/12/tabLimpGeral[[#This Row],[CARGA HORÁRIA INICIAL]]),0) -> 0.0035583091
A14: =ROW()-3 -> 11 | B14: 2000 | C14: UNIDADE | D14: =79*75+77*110+19*150+(254+2+2)*220 -> 74005 | E14: Porta-papel higiênico - matéria-prima: polipropileno; tipo: cilíndrico; medidas: 266 x 277,1 x 120 mm ou outro modelo compatível com o insumo fornecido. | F14: Equipamento | G14: CONTRATUAL | J14: 37.65 | K14: =tabLimpGeral[[#This Row],[PREÇO UNIDADE - (R$)]]*tabLimpGeral[[#This Row],[QUANT. ITEM]] -> 75300 | L14: {=tabLimpGeral[[#This Row],[PREÇO INICIAL - (R$)]]*IFERROR(PRODUCT(1+_xlfn._xlws.FILTER(tabIndices[PERCENTUAL],tabIndices[DATA DA PUBLICAÇÃO]>tabLimpGeral[[#This Row],[DATA PUBLICAÇÃO]])),1)} -> 37.65 | M14: =IF(tabLimpGeral[[#This Row],[TIPO]]="Equipamento",tabLimpGeral[[#This Row],[PREÇO UNIDADE - (R$)]]/60,0) -> 0.6275 | N14: =tabLimpGeral[[#This Row],[VALOR - DEPRECIAÇÃO MENSAL - UNIDADE (R$)]]*tabLimpGeral[[#This Row],[QUANT. ITEM]] -> 1255 | O14: =tabLimpGeral[[#This Row],[VALOR DEPRECIAÇÃO MENSAL - TOTAL (R$)]]*12 -> 15060 | P14: =IFERROR(IF(tabLimpGeral[[#This Row],[TIPO]]="Equipamento",tabLimpGeral[[#This Row],[VALOR - DEPRECIAÇÃO ANUAL - TOTAL (R$) ]]/12/tabLimpGeral[[#This Row],[CARGA HORÁRIA INICIAL]],tabLimpGeral[[#This Row],[PREÇO TOTAL - (R$)]]/12/tabLimpGeral[[#This Row],[CARGA HORÁRIA INICIAL]]),0) -> 0.016958314
A15: =ROW()-3 -> 12 | B15: 5 | C15: UNIDADE | D15: =79*75+77*110+19*150+(254+2+2)*220 -> 74005 | E15: Vaporizador portátil, com potência mínima de 1200 W, tensão de 127 V, ou bivolt. Blace & Decker ou similar. | F15: Equipamento | G15: CONTRATUAL | J15: 228.16 | K15: =tabLimpGeral[[#This Row],[PREÇO UNIDADE - (R$)]]*tabLimpGeral[[#This Row],[QUANT. ITEM]] -> 1140.8 | L15: {=tabLimpGeral[[#This Row],[PREÇO INICIAL - (R$)]]*IFERROR(PRODUCT(1+_xlfn._xlws.FILTER(tabIndices[PERCENTUAL],tabIndices[DATA DA PUBLICAÇÃO]>tabLimpGeral[[#This Row],[DATA PUBLICAÇÃO]])),1)} -> 228.16 | M15: =IF(tabLimpGeral[[#This Row],[TIPO]]="Equipamento",tabLimpGeral[[#This Row],[PREÇO UNIDADE - (R$)]]/60,0) -> 3.8026667 | N15: =tabLimpGeral[[#This Row],[VALOR - DEPRECIAÇÃO MENSAL - UNIDADE (R$)]]*tabLimpGeral[[#This Row],[QUANT. ITEM]] -> 19.013333 | O15: =tabLimpGeral[[#This Row],[VALOR DEPRECIAÇÃO MENSAL - TOTAL (R$)]]*12 -> 228.16 | P15: =IFERROR(IF(tabLimpGeral[[#This Row],[TIPO]]="Equipamento",tabLimpGeral[[#This Row],[VALOR - DEPRECIAÇÃO ANUAL - TOTAL (R$) ]]/12/tabLimpGeral[[#This Row],[CARGA HORÁRIA INICIAL]],tabLimpGeral[[#This Row],[PREÇO TOTAL - (R$)]]/12/tabLimpGeral[[#This Row],[CARGA HORÁRIA INICIAL]]),0) -> 0.00025691958
... A80: =ROW()-3 -> 77 | B80: 31144 | C80: UNIDADE | D80: =79*75+77*110+19*150+(254+2+2)*220 -> 74005 | E80: Toalha de papel - tipo: gofrada, folha simples, 100% celulose virgem; apresentacao: bobina; medidas: 200 metros x 20cm de largura, gramatura 32g/m2; qualidade: alta qualidade e maior resistencia (nao esfarelar); cor: branca; | F80: Produto | G80: MENSAL | J80: 23.88 | K80: =tabLimpGeral[[#This Row],[PREÇO UNIDADE - (R$)]]*tabLimpGeral[[#This Row],[QUANT. ITEM]] -> 743718.72 | L80: {=tabLimpGeral[[#This Row],[PREÇO INICIAL - (R$)]]*IFERROR(PRODUCT(1+_xlfn._xlws.FILTER(tabIndices[PERCENTUAL],tabIndices[DATA DA PUBLICAÇÃO]>tabLimpGeral[[#This Row],[DATA PUBLICAÇÃO]])),1)} -> 23.88 | M80: =IF(tabLimpGeral[[#This Row],[TIPO]]="Equipamento",tabLimpGeral[[#This Row],[PREÇO UNIDADE - (R$)]]/60,0) -> 0 | N80: =tabLimpGeral[[#This Row],[VALOR - DEPRECIAÇÃO MENSAL - UNIDADE (R$)]]*tabLimpGeral[[#This Row],[QUANT. ITEM]] -> 0 | O80: =tabLimpGeral[[#This Row],[VALOR DEPRECIAÇÃO MENSAL - TOTAL (R$)]]*12 -> 0 | P80: =IFERROR(IF(tabLimpGeral[[#This Row],[TIPO]]="Equipamento",tabLimpGeral[[#This Row],[VALOR - DEPRECIAÇÃO ANUAL - TOTAL (R$) ]]/12/tabLimpGeral[[#This Row],[CARGA HORÁRIA INICIAL]],tabLimpGeral[[#This Row],[PREÇO TOTAL - (R$)]]/12/tabLimpGeral[[#This Row],[CARGA HORÁRIA INICIAL]]),0) -> 0.8374645
A81: Total | J81: =SUBTOTAL(9,tabLimpGeral[PREÇO INICIAL - (R$)]) -> 19154.09 | K81: =SUBTOTAL(9,tabLimpGeral[PREÇO TOTAL - (R$)]) -> 4232157.8 | L81: =SUBTOTAL(9,tabLimpGeral[PREÇO UNIDADE - (R$)]) -> 19154.09 | M81: =SUBTOTAL(9,tabLimpGeral[VALOR - DEPRECIAÇÃO MENSAL - UNIDADE (R$)]) -> 266.77233 | N81: =SUBTOTAL(9,tabLimpGeral[VALOR DEPRECIAÇÃO MENSAL - TOTAL (R$)]) -> 21706.808 | O81: =SUBTOTAL(9,tabLimpGeral[VALOR - DEPRECIAÇÃO ANUAL - TOTAL (R$) ]) -> 260481.7 | P81: =SUBTOTAL(9,tabLimpGeral[VALOR UNITÁRIO P/ HORA (R$)]) -> 3.5923597

Sheet INSUMOS LIMP. DE VIDROS
A1: APENSO XI - Quantitativo estimado e preços de Máquinas e Equipamentos – Depreciação Mensal 3) Equipamentos utilizados no serviço de limpeza de vidros
A3: ORDEM | B3: QUANT. ITEM | C3: UNIDADE | D3: QUANT. POSTOS | E3: DESCRIÇÃO | F3: TIPO | G3: PERIODICIDADE DE FORNECIMENTO | H3: TA / APOST | I3: DATA PUBLICAÇÃO | J3: PREÇO INICIAL - (R$) | K3: PREÇO TOTAL - (R$) | L3: PREÇO UNIDADE - (R$) | M3: VALOR - DEPRECIAÇÃO MENSAL - UNIDADE (R$) | N3: VALOR DEPRECIAÇÃO MENSAL - TOTAL (R$) | O3: VALOR - DEPRECIAÇÃO ANUAL - TOTAL (R$) | P3: VALOR UNITÁRIO P/ POSTO (R$)
A4: =ROW()-3 -> 1 | B4: 4 | C4: UNIDADE | D4: 4 | E4: Kit limpa vidros com extensão telescópica em alumínio, com 3 estágios (até 9 metros) composto de lavador, cabo de fixação, guias removíveis, pulverizador e raspador. Marca Bralimpia ou similar. | F4: Equipamento | G4: CONTRATUAL | J4: 373.3 | K4: =tabVidros[[#This Row],[PREÇO UNIDADE - (R$)]]*tabVidros[[#This Row],[QUANT. ITEM]] -> 1493.2 | L4: {=tabVidros[[#This Row],[PREÇO INICIAL - (R$)]]*IFERROR(PRODUCT(1+_xlfn._xlws.FILTER(tabIndices[PERCENTUAL],tabIndices[DATA DA PUBLICAÇÃO]>tabVidros[[#This Row],[DATA PUBLICAÇÃO]])),1)} -> 373.3 | M4: =IF(tabVidros[[#This Row],[TIPO]]="Equipamento",tabVidros[[#This Row],[PREÇO UNIDADE - (R$)]]/60,0) -> 6.2216667 | N4: =tabVidros[[#This Row],[VALOR - DEPRECIAÇÃO MENSAL - UNIDADE (R$)]]*tabVidros[[#This Row],[QUANT. ITEM]] -> 24.886667 | O4: =tabVidros[[#This Row],[VALOR DEPRECIAÇÃO MENSAL - TOTAL (R$)]]*12 -> 298.64 | P4: =IFERROR(IF(tabVidros[[#This Row],[TIPO]]="Equipamento",tabVidros[[#This Row],[VALOR - DEPRECIAÇÃO ANUAL - TOTAL (R$) ]]/12/tabVidros[[#This Row],[QUANT. POSTOS]],tabVidros[[#This Row],[PREÇO TOTAL - (R$)]]/12/tabVidros[[#This Row],[QUANT. POSTOS]]),0) -> 6.2216667
A5: Total | J5: =SUBTOTAL(9,tabVidros[PREÇO INICIAL - (R$)]) -> 373.3 | K5: =SUBTOTAL(9,tabVidros[PREÇO TOTAL - (R$)]) -> 1493.2 | L5: =SUBTOTAL(9,tabVidros[PREÇO UNIDADE - (R$)]) -> 373.3 | M5: =SUBTOTAL(9,tabVidros[VALOR - DEPRECIAÇÃO MENSAL - UNIDADE (R$)]) -> 6.2216667 | N5: =SUBTOTAL(9,tabVidros[VALOR DEPRECIAÇÃO MENSAL - TOTAL (R$)]) -> 24.886667 | O5: =SUBTOTAL(9,tabVidros[VALOR - DEPRECIAÇÃO ANUAL - TOTAL (R$) ]) -> 298.64 | P5: =SUBTOTAL(9,tabVidros[VALOR UNITÁRIO P/ POSTO (R$)]) -> 6.2216667

Sheet RELAÇÃO SINDICATOS
A1: SINDICATOS | B1: ABRANGÊNCIA | C1: COMARCAS PAF | D1: FUNÇÕES | E1: COMARCAS CONTRATO | F1: VA | G1: Cesta Básica | H1: PAF | I1: PQM | J1: PAT | K1: ANO DA CCT | L1: Nº DE PEDIDO DA CCT | M1: TERMO ADITIVO ALTERAÇÃO DA CCT | N1: Nº REGISTRO MTE/ CCT
A2: Alto Paranaiba | B2: Abadia dos Dourados/MG, Água Comprida/MG, Araguari/MG, Araporã/MG, Cachoeira Dourada/MG, Campina Verde/MG, Campo Florido/MG, Campos Altos/MG, Canápolis/MG, Capinópolis/MG, Carmo do Paranaíba/MG,Carneirinho/MG, Cascalho Rico/MG, Centralina/MG, Conquista/MG, Coromandel/MG, Cruzeiro daFortaleza/MG, Delfinópolis/MG, Douradoquara/MG, Estrela do Sul/MG, Grupiara/MG, Guarda-Mor/MG,Guimarânia/MG, Gurinhatã/MG, Ibiá/MG, Indianópolis/MG, Ipiaçu/MG, Iraí de Minas/MG, Itapagipe/MG,Ituiutaba/MG, Iturama/MG, Lagoa Formosa/MG, Limeira do Oeste/MG, Matutina/MG, Medeiros/MG, Monte Alegre de Minas/MG, Monte Carmelo/MG, Nova Ponte/MG, Pedrinópolis/MG, Perdizes/MG, Pirajuba/MG,Prata/MG, Pratinha/MG, Presidente Olegário/MG, Rio Paranaíba/MG, Romaria/MG, Santa Juliana/MG,Santa Rosa da Serra/MG, Santa Vitória/MG, São Francisco de Sales/MG, São Gotardo/MG, São JoãoBatista do Glória/MG, Tapiraí/MG, Tiros/MG e Tupaciguara/MG | D2: Auxiliar de Limpeza - 12 x 36 - Diurno, Auxiliar de Limpeza - 12 x 36 - Noturno, Auxiliar de Limpeza - 75 h, Auxiliar de Limpeza - 110 h, Auxiliar de Limpeza - 150 h, Auxiliar de Limpeza - 220 h e Limpador de vidros - 220 h | E2: {=_xlfn.LET(_xlpm.listaComarcas, _xlfn.UNIQUE(_xlfn._xlws.FILTER(tabParametros[Comarca],tabParametros[CCT DA CATEGORIA]=tabSindicatos[[#This Row],[SINDICATOS]],"")), IF(COUNTA(_xlpm.listaComarcas)=1, _xlpm.listaComarcas&".", SUBSTITUTE(_xlfn.TEXTJOIN(", ",TRUE,_xlpm.listaComarcas),", "," e ",COUNTA(_xlpm.listaComarcas)-1)&"." ) )} -> Araguari, Campos Altos, Canapolis, Carmo do Paranaiba, Conquista, Coromandel, Ibia, Itapagipe, Ituiutaba, Iturama, Monte Carmelo, Nova Ponte, Perdizes, Presidente Olegario, Rio Paranaiba, Santa Vitoria, Sao Gotardo e Tupaciguara. | F2: 0 | G2: 387.79 | H2: 42.97 | I2: 0 | J2: 0 | K2: 45658 | L2: - | M2: - | N2: MG001106/2025
A3: Araxa | B3: Araxá/MG | D3: Auxiliar de Limpeza - 12 x 36 - Diurno, Auxiliar de Limpeza - 12 x 36 - Noturno, Auxiliar de Limpeza - 75 h, Auxiliar de Limpeza - 110 h, Auxiliar de Limpeza - 150 h, Auxiliar de Limpeza - 220 h e Limpador de vidros - 220 h | E3: {=_xlfn.LET(_xlpm.listaComarcas, _xlfn.UNIQUE(_xlfn._xlws.FILTER(tabParametros[Comarca],tabParametros[CCT DA CATEGORIA]=tabSindicatos[[#This Row],[SINDICATOS]],"")), IF(COUNTA(_xlpm.listaComarcas)=1, _xlpm.listaComarcas&".", SUBSTITUTE(_xlfn.TEXTJOIN(", ",TRUE,_xlpm.listaComarcas),", "," e ",COUNTA(_xlpm.listaComarcas)-1)&"." ) )} -> Araxa. | F3: 29.15 | G3: 0 | H3: 58.96 | I3: 0 | J3: 0 | K3: 45658 | L3: - | M3: - | N3: MG000344/2025
